BEGIN:VCALENDAR
VERSION:2.0
PRODID:-//CMS QIN-QIO - ECPv6.15.20//NONSGML v1.0//EN
CALSCALE:GREGORIAN
METHOD:PUBLISH
X-ORIGINAL-URL:https://qi.ipro.org
X-WR-CALDESC:Events for CMS QIN-QIO
REFRESH-INTERVAL;VALUE=DURATION:PT1H
X-Robots-Tag:noindex
X-PUBLISHED-TTL:PT1H
BEGIN:VTIMEZONE
TZID:America/New_York
BEGIN:DAYLIGHT
TZOFFSETFROM:-0500
TZOFFSETTO:-0400
TZNAME:EDT
DTSTART:20220313T070000
END:DAYLIGHT
BEGIN:STANDARD
TZOFFSETFROM:-0400
TZOFFSETTO:-0500
TZNAME:EST
DTSTART:20221106T060000
END:STANDARD
BEGIN:DAYLIGHT
TZOFFSETFROM:-0500
TZOFFSETTO:-0400
TZNAME:EDT
DTSTART:20230312T070000
END:DAYLIGHT
BEGIN:STANDARD
TZOFFSETFROM:-0400
TZOFFSETTO:-0500
TZNAME:EST
DTSTART:20231105T060000
END:STANDARD
BEGIN:DAYLIGHT
TZOFFSETFROM:-0500
TZOFFSETTO:-0400
TZNAME:EDT
DTSTART:20240310T070000
END:DAYLIGHT
BEGIN:STANDARD
TZOFFSETFROM:-0400
TZOFFSETTO:-0500
TZNAME:EST
DTSTART:20241103T060000
END:STANDARD
END:VTIMEZONE
BEGIN:VEVENT
DTSTART;TZID=America/New_York:20230510T110000
DTEND;TZID=America/New_York:20230510T120000
DTSTAMP:20260423T153636
CREATED:20230216T202644Z
LAST-MODIFIED:20230428T130628Z
UID:35069-1683716400-1683720000@qi.ipro.org
SUMMARY:Leaders Forum: Partnership for Community Health - Q2: Medication Management During Transitions Session 2
DESCRIPTION:May Leader’s Forum \nWe have great educational sessions planned to encourage peer-to-peer sharing across our region \nTopic: Medication Management During Transitions \n\nDiscover ways to incorporate enhanced community pharmacy services (at no charge) to support care transitions.\nFirsthand accounts from patients on medication management.\nLearn how pharmacies can support patients with Opioid Use Disorder.\n\nSpeakers \n\nDixie Leikach\, RPh\, MBA\, PRS\, FACA\, CPESN Maryland\nJeffrey Bratberg\, Pharm.D.\,FAPhA\, the University of Rhode island\nJanice Tufte\, Patient Partner\n\n 
URL:https://qi.ipro.org/upcoming-events/leaders-forum-partnership-for-community-health-q2-medication-management-during-transitions-session-2/
LOCATION:Online via Zoom
CATEGORIES:Free event,Hospital event
END:VEVENT
BEGIN:VEVENT
DTSTART;TZID=America/New_York:20230510T120000
DTEND;TZID=America/New_York:20230510T130000
DTSTAMP:20260423T153636
CREATED:20230215T145929Z
LAST-MODIFIED:20230512T214257Z
UID:34977-1683720000-1683723600@qi.ipro.org
SUMMARY:Partnering Beyond COVID-19: Management of Patients with Chronic Conditions: Heart Health - Cardiac Rehab
DESCRIPTION:Session: Management of Patients with Chronic Conditions: Heart Health – Cardiac Rehab  \nDescription:  \nDespite the many benefits of Cardiac Rehabilitation\, enrollment remains quite low – nationally\, only 10% to 34% of eligible patients enroll.   \n  \nJoin us to learn more about tools to support awareness of the value of Cardiac Rehabilitation with patients\, reduce barriers to participation\, and implement evidence-based interventions.  \nWatch Recording\nView Slides
URL:https://qi.ipro.org/upcoming-events/partnering-beyond-covid-19-management-of-patients-with-chronic-conditions-heart-health-cardiac-rehab/
LOCATION:Online via Zoom
CATEGORIES:Free event,Health Equity,Hospital event
END:VEVENT
END:VCALENDAR