BEGIN:VCALENDAR
VERSION:2.0
PRODID:-//CMS QIN-QIO - ECPv6.15.20//NONSGML v1.0//EN
CALSCALE:GREGORIAN
METHOD:PUBLISH
X-ORIGINAL-URL:https://qi.ipro.org
X-WR-CALDESC:Events for CMS QIN-QIO
REFRESH-INTERVAL;VALUE=DURATION:PT1H
X-Robots-Tag:noindex
X-PUBLISHED-TTL:PT1H
BEGIN:VTIMEZONE
TZID:America/New_York
BEGIN:DAYLIGHT
TZOFFSETFROM:-0500
TZOFFSETTO:-0400
TZNAME:EDT
DTSTART:20220313T070000
END:DAYLIGHT
BEGIN:STANDARD
TZOFFSETFROM:-0400
TZOFFSETTO:-0500
TZNAME:EST
DTSTART:20221106T060000
END:STANDARD
BEGIN:DAYLIGHT
TZOFFSETFROM:-0500
TZOFFSETTO:-0400
TZNAME:EDT
DTSTART:20230312T070000
END:DAYLIGHT
BEGIN:STANDARD
TZOFFSETFROM:-0400
TZOFFSETTO:-0500
TZNAME:EST
DTSTART:20231105T060000
END:STANDARD
BEGIN:DAYLIGHT
TZOFFSETFROM:-0500
TZOFFSETTO:-0400
TZNAME:EDT
DTSTART:20240310T070000
END:DAYLIGHT
BEGIN:STANDARD
TZOFFSETFROM:-0400
TZOFFSETTO:-0500
TZNAME:EST
DTSTART:20241103T060000
END:STANDARD
END:VTIMEZONE
BEGIN:VEVENT
DTSTART;TZID=America/New_York:20230504T150000
DTEND;TZID=America/New_York:20230504T160000
DTSTAMP:20260423T153541
CREATED:20230216T202500Z
LAST-MODIFIED:20230428T130726Z
UID:35067-1683212400-1683216000@qi.ipro.org
SUMMARY:Leaders Forum: Partnership for Community Health - Q2: Medication Management During Transitions Session 1
DESCRIPTION:May Leader’s Forum \nWe have great educational sessions planned to encourage peer-to-peer sharing across our region \nTopic: Medication Management During Transitions \n\nDiscover ways to incorporate enhanced community pharmacy services (at no charge) to support care transitions.\nFirsthand accounts from patients on medication management.\nLearn how an emergency department enhanced its medication reconciliation process using technology.\n\nSpeakers \n\nDixie Leikach\, RPh\, MBA\, PRS\, FACA\, CPESN Maryland\nErica Fredette\, South Shore Health\nRosie Bartel\, Patient Partner\n\n  \n 
URL:https://qi.ipro.org/upcoming-events/leaders-forum-partnership-for-community-health-q2-medication-management-during-transitions-session-1/
LOCATION:Online via Zoom
CATEGORIES:Free event,Hospital event
END:VEVENT
END:VCALENDAR