BEGIN:VCALENDAR
VERSION:2.0
PRODID:-//CMS QIN-QIO - ECPv6.15.20//NONSGML v1.0//EN
CALSCALE:GREGORIAN
METHOD:PUBLISH
X-WR-CALNAME:CMS QIN-QIO
X-ORIGINAL-URL:https://qi.ipro.org
X-WR-CALDESC:Events for CMS QIN-QIO
REFRESH-INTERVAL;VALUE=DURATION:PT1H
X-Robots-Tag:noindex
X-PUBLISHED-TTL:PT1H
BEGIN:VTIMEZONE
TZID:America/New_York
BEGIN:DAYLIGHT
TZOFFSETFROM:-0500
TZOFFSETTO:-0400
TZNAME:EDT
DTSTART:20220313T070000
END:DAYLIGHT
BEGIN:STANDARD
TZOFFSETFROM:-0400
TZOFFSETTO:-0500
TZNAME:EST
DTSTART:20221106T060000
END:STANDARD
BEGIN:DAYLIGHT
TZOFFSETFROM:-0500
TZOFFSETTO:-0400
TZNAME:EDT
DTSTART:20230312T070000
END:DAYLIGHT
BEGIN:STANDARD
TZOFFSETFROM:-0400
TZOFFSETTO:-0500
TZNAME:EST
DTSTART:20231105T060000
END:STANDARD
BEGIN:DAYLIGHT
TZOFFSETFROM:-0500
TZOFFSETTO:-0400
TZNAME:EDT
DTSTART:20240310T070000
END:DAYLIGHT
BEGIN:STANDARD
TZOFFSETFROM:-0400
TZOFFSETTO:-0500
TZNAME:EST
DTSTART:20241103T060000
END:STANDARD
END:VTIMEZONE
BEGIN:VEVENT
DTSTART;TZID=America/New_York:20230420T130000
DTEND;TZID=America/New_York:20230420T133000
DTSTAMP:20260423T194432
CREATED:20230331T174013Z
LAST-MODIFIED:20230331T174013Z
UID:35293-1681995600-1681997400@qi.ipro.org
SUMMARY:Rhode Island Tobacco Cessation: Rhode Island QuitWorks Process
DESCRIPTION:Description: \nProviding support is essential. Join us for this interactive session with Julia Doherty of the Rhode Island Department of Health. \nDuring this session\, Julia will review options and the referral process for RI QuitWorks. She’ll address questions you may have.
URL:https://qi.ipro.org/upcoming-events/rhode-island-tobacco-cessation-rhode-island-quitworks-process/
LOCATION:Online via Zoom
CATEGORIES:Free event,Hospital event
END:VEVENT
END:VCALENDAR