BEGIN:VCALENDAR
VERSION:2.0
PRODID:-//CMS QIN-QIO - ECPv6.15.20//NONSGML v1.0//EN
CALSCALE:GREGORIAN
METHOD:PUBLISH
X-ORIGINAL-URL:https://qi.ipro.org
X-WR-CALDESC:Events for CMS QIN-QIO
REFRESH-INTERVAL;VALUE=DURATION:PT1H
X-Robots-Tag:noindex
X-PUBLISHED-TTL:PT1H
BEGIN:VTIMEZONE
TZID:America/New_York
BEGIN:DAYLIGHT
TZOFFSETFROM:-0500
TZOFFSETTO:-0400
TZNAME:EDT
DTSTART:20220313T070000
END:DAYLIGHT
BEGIN:STANDARD
TZOFFSETFROM:-0400
TZOFFSETTO:-0500
TZNAME:EST
DTSTART:20221106T060000
END:STANDARD
BEGIN:DAYLIGHT
TZOFFSETFROM:-0500
TZOFFSETTO:-0400
TZNAME:EDT
DTSTART:20230312T070000
END:DAYLIGHT
BEGIN:STANDARD
TZOFFSETFROM:-0400
TZOFFSETTO:-0500
TZNAME:EST
DTSTART:20231105T060000
END:STANDARD
BEGIN:DAYLIGHT
TZOFFSETFROM:-0500
TZOFFSETTO:-0400
TZNAME:EDT
DTSTART:20240310T070000
END:DAYLIGHT
BEGIN:STANDARD
TZOFFSETFROM:-0400
TZOFFSETTO:-0500
TZNAME:EST
DTSTART:20241103T060000
END:STANDARD
END:VTIMEZONE
BEGIN:VEVENT
DTSTART;TZID=America/New_York:20230329T110000
DTEND;TZID=America/New_York:20230329T120000
DTSTAMP:20260423T194754
CREATED:20230215T144905Z
LAST-MODIFIED:20230215T144905Z
UID:34970-1680087600-1680091200@qi.ipro.org
SUMMARY:Partnering Beyond COVID-19: Management of Patients with Chronic Conditions: Kidney Health: CKD
DESCRIPTION:Session Topic: Management of Patients with Chronic Conditions: Kidney Health: CKD  \nDescription:  \nCKD affects more than 1 in 7 U.S. adults.  For patients with diabetes or high blood pressure\, the risk for CKD is even greater.   \nInterventions that can slow progression of CKD include early identification\, controlling blood pressure\, controlling blood glucose\, reducing albuminuria\, eating a healthy diet and maintaining a healthy lifestyle.   \n  \nJoin us to learn more about early identification of CKD\, treatment and monitoring progression\, and delivering patient-centered care.   \n 
URL:https://qi.ipro.org/upcoming-events/partnering-beyond-covid-19-management-of-patients-with-chronic-conditions-kidney-health-ckd/
LOCATION:Online via Zoom
CATEGORIES:Free event,Hospital event,Nursing Home
END:VEVENT
END:VCALENDAR