BEGIN:VCALENDAR
VERSION:2.0
PRODID:-//CMS QIN-QIO - ECPv6.15.20//NONSGML v1.0//EN
CALSCALE:GREGORIAN
METHOD:PUBLISH
X-WR-CALNAME:CMS QIN-QIO
X-ORIGINAL-URL:https://qi.ipro.org
X-WR-CALDESC:Events for CMS QIN-QIO
REFRESH-INTERVAL;VALUE=DURATION:PT1H
X-Robots-Tag:noindex
X-PUBLISHED-TTL:PT1H
BEGIN:VTIMEZONE
TZID:America/New_York
BEGIN:DAYLIGHT
TZOFFSETFROM:-0500
TZOFFSETTO:-0400
TZNAME:EDT
DTSTART:20220313T070000
END:DAYLIGHT
BEGIN:STANDARD
TZOFFSETFROM:-0400
TZOFFSETTO:-0500
TZNAME:EST
DTSTART:20221106T060000
END:STANDARD
BEGIN:DAYLIGHT
TZOFFSETFROM:-0500
TZOFFSETTO:-0400
TZNAME:EDT
DTSTART:20230312T070000
END:DAYLIGHT
BEGIN:STANDARD
TZOFFSETFROM:-0400
TZOFFSETTO:-0500
TZNAME:EST
DTSTART:20231105T060000
END:STANDARD
BEGIN:DAYLIGHT
TZOFFSETFROM:-0500
TZOFFSETTO:-0400
TZNAME:EDT
DTSTART:20240310T070000
END:DAYLIGHT
BEGIN:STANDARD
TZOFFSETFROM:-0400
TZOFFSETTO:-0500
TZNAME:EST
DTSTART:20241103T060000
END:STANDARD
END:VTIMEZONE
BEGIN:VEVENT
DTSTART;TZID=America/New_York:20230302T150000
DTEND;TZID=America/New_York:20230302T160000
DTSTAMP:20260423T215301
CREATED:20230216T202100Z
LAST-MODIFIED:20230216T202100Z
UID:35062-1677769200-1677772800@qi.ipro.org
SUMMARY:Leaders Forum: Partnership for Community Health - Q1: Supporting Staff Wellness Session 1
DESCRIPTION:Have you missed us? We’ve missed you! Let’s regroup for an amazing 2023.\nWe have planned some great educational sessions and want to engage in peer-to-peer sharing across our region \nTopic: Supporting Staff Wellness  \nThe IPRO QIN-QIO consists of IPRO\, Qlarant and Healthcentric Advisors to support leaders and key stakeholders from 86 PCH communities across our 11 states (CT\, DE\, MA\, MD\, ME\, NH\, NJ\, NY\, OH\, RI\, VT) and the District of Columbia. The goal is to enhance community health and focus on CMS quality goals: reduce opioid misuse\, increase prevention and management of chronic conditions\, enhance care coordination\, further immunizations\, support emergency preparedness and improve infection control practices by: \n• Taking a data-driven approach to explore critical quality opportunities.\n• Learning new evidence based interventions and promising practices.\n• Engaging in peer-to-peer sharing (which comes from you) and problem solving together. \n  \n \n 
URL:https://qi.ipro.org/upcoming-events/leaders-forum-partnership-for-community-health-q1-supporting-staff-wellness-session-1/
LOCATION:Online via Zoom
CATEGORIES:Free event,Hospital event
END:VEVENT
END:VCALENDAR