BEGIN:VCALENDAR
VERSION:2.0
PRODID:-//CMS QIN-QIO - ECPv6.15.20//NONSGML v1.0//EN
CALSCALE:GREGORIAN
METHOD:PUBLISH
X-WR-CALNAME:CMS QIN-QIO
X-ORIGINAL-URL:https://qi.ipro.org
X-WR-CALDESC:Events for CMS QIN-QIO
REFRESH-INTERVAL;VALUE=DURATION:PT1H
X-Robots-Tag:noindex
X-PUBLISHED-TTL:PT1H
BEGIN:VTIMEZONE
TZID:America/New_York
BEGIN:DAYLIGHT
TZOFFSETFROM:-0500
TZOFFSETTO:-0400
TZNAME:EDT
DTSTART:20210314T070000
END:DAYLIGHT
BEGIN:STANDARD
TZOFFSETFROM:-0400
TZOFFSETTO:-0500
TZNAME:EST
DTSTART:20211107T060000
END:STANDARD
BEGIN:DAYLIGHT
TZOFFSETFROM:-0500
TZOFFSETTO:-0400
TZNAME:EDT
DTSTART:20220313T070000
END:DAYLIGHT
BEGIN:STANDARD
TZOFFSETFROM:-0400
TZOFFSETTO:-0500
TZNAME:EST
DTSTART:20221106T060000
END:STANDARD
BEGIN:DAYLIGHT
TZOFFSETFROM:-0500
TZOFFSETTO:-0400
TZNAME:EDT
DTSTART:20230312T070000
END:DAYLIGHT
BEGIN:STANDARD
TZOFFSETFROM:-0400
TZOFFSETTO:-0500
TZNAME:EST
DTSTART:20231105T060000
END:STANDARD
END:VTIMEZONE
BEGIN:VEVENT
DTSTART;TZID=America/New_York:20221115T120000
DTEND;TZID=America/New_York:20221115T130000
DTSTAMP:20260424T022354
CREATED:20221115T153345Z
LAST-MODIFIED:20221115T153345Z
UID:34484-1668513600-1668517200@qi.ipro.org
SUMMARY:National Rural Health Day Webinar: CMS Framework for Advancing Health Care in Rural\, Tribal\, and Geographically Isolated Communities
DESCRIPTION:The Centers for Medicare & Medicaid Services Office of Minority Health (CMS OMH) is hosting a webinar in recognition of National Rural Health Day on Tuesday\, November 15 from 12:00 – 1:00 p.m. ET. Join us to learn about CMS OMH’s Framework for Advancing Health Care in Rural\, Tribal\, and Geographically Isolated Communities\, which outlines CMS’s rural priorities over the next five years and supports the Agency’s overall efforts to advance health equity\, expand access to quality\, affordable health coverage\, and improve health outcomes for all Americans. \nDuring this webinar\, CMS OMH will: \n\nProvide an overview of the development and priority areas of the Framework\, including its connection to resources such as Rural Health Strategy and CMS Framework for Health Equity 2022 – 2032.\nReview additional recently released CMS OMH rural health resources.
URL:https://qi.ipro.org/upcoming-events/national-rural-health-day-webinar-cms-framework-for-advancing-health-care-in-rural-tribal-and-geographically-isolated-communities/
LOCATION:Online via Zoom
CATEGORIES:Free event
END:VEVENT
BEGIN:VEVENT
DTSTART;TZID=America/New_York:20221117T140000
DTEND;TZID=America/New_York:20221117T150000
DTSTAMP:20260424T022354
CREATED:20221115T152304Z
LAST-MODIFIED:20221115T152304Z
UID:34480-1668693600-1668697200@qi.ipro.org
SUMMARY:CMS Rural Health Open Door Forum
DESCRIPTION:Please dial in at least 15 minutes prior to call start time. \nThis call will be Conference Call Only. \nTo participate by phone: Dial: 1-888-455-1397 & Reference Conference Passcode: 5109694 \nPersons participating by phone are not required to RSVP. TTY Communications Relay Services are available for the Hearing Impaired.  For TTY services dial 7-1-1 or 1-800-855-2880. A Relay Communications Assistant will help. \nInstant Replay: 1-800-513-1169; Conference Passcode: No Passcode Needed \nInstant Replay is an audio recording of this call that can be accessed by dialing 1-800-513-1169. Instant Replay begins 1 hour after the call has ended. The recording expires November 19\, 2022\, 11:59 PM ET. \nPersons participating by phone are not required to RSVP. TTY Communications Relay Services are available for the Hearing Impaired.  For TTY services dial 7-1-1 or 1-800-855-2880. A Relay Communications Assistant will help. \nInstant Replay: 1-800-513-1169; Conference Passcode: No Passcode Needed \n**This Agenda is Subject to Change** \nConference Leaders: Ing-Jye Cheng\, John Hammarlund and Jill Darling. \n\nOpening Remarks\n\nCo-Chair- Ing-Jye Cheng\, (Center for Medicare)\nCo-Chair – John Hammarlund\, Deputy Director Local Engagement and Administration\,  OPOLE\nModerator – Jill Darling\, Office of Communications\n\n\nAnnouncements & Updates\n\n\nCMS Framework for Advancing Health Care in Rural\, Tribal\, and Geographically Isolated Communities\nOPPS Final Rule: Rural Emergency Hospital (REH) Conditions of Participation (CoPs) and CAH CoP changes\nREH Payment Policies\nUpdates to OPPS and ASC payment rates\nUpdate on the CY 2023 Home Health Prospective Payment Rate Update Final Rule\nCY 2023 Physician Fee Schedule NPRM Final Updates\nIssues impacting RHCs under the Physician Fee Schedule\n\n\nOpen Q&A\n\n**DATE IS SUBJECT TO CHANGE**
URL:https://qi.ipro.org/upcoming-events/cms-rural-health-open-door-forum/
CATEGORIES:Free event
END:VEVENT
END:VCALENDAR