BEGIN:VCALENDAR
VERSION:2.0
PRODID:-//CMS QIN-QIO - ECPv6.15.20//NONSGML v1.0//EN
CALSCALE:GREGORIAN
METHOD:PUBLISH
X-ORIGINAL-URL:https://qi.ipro.org
X-WR-CALDESC:Events for CMS QIN-QIO
REFRESH-INTERVAL;VALUE=DURATION:PT1H
X-Robots-Tag:noindex
X-PUBLISHED-TTL:PT1H
BEGIN:VTIMEZONE
TZID:America/New_York
BEGIN:DAYLIGHT
TZOFFSETFROM:-0500
TZOFFSETTO:-0400
TZNAME:EDT
DTSTART:20220313T070000
END:DAYLIGHT
BEGIN:STANDARD
TZOFFSETFROM:-0400
TZOFFSETTO:-0500
TZNAME:EST
DTSTART:20221106T060000
END:STANDARD
BEGIN:DAYLIGHT
TZOFFSETFROM:-0500
TZOFFSETTO:-0400
TZNAME:EDT
DTSTART:20230312T070000
END:DAYLIGHT
BEGIN:STANDARD
TZOFFSETFROM:-0400
TZOFFSETTO:-0500
TZNAME:EST
DTSTART:20231105T060000
END:STANDARD
BEGIN:DAYLIGHT
TZOFFSETFROM:-0500
TZOFFSETTO:-0400
TZNAME:EDT
DTSTART:20240310T070000
END:DAYLIGHT
BEGIN:STANDARD
TZOFFSETFROM:-0400
TZOFFSETTO:-0500
TZNAME:EST
DTSTART:20241103T060000
END:STANDARD
END:VTIMEZONE
BEGIN:VEVENT
DTSTART;TZID=America/New_York:20231013T120000
DTEND;TZID=America/New_York:20231013T130000
DTSTAMP:20260423T202615
CREATED:20230831T185829Z
LAST-MODIFIED:20230831T194048Z
UID:36411-1697198400-1697202000@qi.ipro.org
SUMMARY:Ensuring Medication for Opioid Use Disorder (MOUD) Treatment through the Care Continuum Webinar Series Session 2
DESCRIPTION:More than 1 million Medicare beneficiaries had a diagnosis of opioid use disorder (OUD) in 2020.\nHowever\, fewer than one in five received medication to treat this condition. In addition\, the number of patients who stay in treatment after hospital discharge decrease drastically. \nThis webinar series is a collaboration between all Quality Innovation Network-Quality Improvement Organizations and will provide strategies\, interventions\, and targeted solutions to ensure access to MOUD treatment and facilitate continuity of care through the continuum. \nSession 2: Role of the Pharmacist in the Treatment of Patients with OUD \nIn this session\, we will explain medication processes and address opioid adverse drug events (ADEs) and risk assessment for opioid prescribing.
URL:https://qi.ipro.org/upcoming-events/ensuring-medication-for-opioid-use-disorder-moud-treatment-through-the-care-continuum-webinar-series-session-2/
LOCATION:Online via WebEx
CATEGORIES:Free event,Opioid
END:VEVENT
END:VCALENDAR