BEGIN:VCALENDAR
VERSION:2.0
PRODID:-//CMS QIN-QIO - ECPv6.15.20//NONSGML v1.0//EN
CALSCALE:GREGORIAN
METHOD:PUBLISH
X-WR-CALNAME:CMS QIN-QIO
X-ORIGINAL-URL:https://qi.ipro.org
X-WR-CALDESC:Events for CMS QIN-QIO
REFRESH-INTERVAL;VALUE=DURATION:PT1H
X-Robots-Tag:noindex
X-PUBLISHED-TTL:PT1H
BEGIN:VTIMEZONE
TZID:America/New_York
BEGIN:DAYLIGHT
TZOFFSETFROM:-0500
TZOFFSETTO:-0400
TZNAME:EDT
DTSTART:20220313T070000
END:DAYLIGHT
BEGIN:STANDARD
TZOFFSETFROM:-0400
TZOFFSETTO:-0500
TZNAME:EST
DTSTART:20221106T060000
END:STANDARD
BEGIN:DAYLIGHT
TZOFFSETFROM:-0500
TZOFFSETTO:-0400
TZNAME:EDT
DTSTART:20230312T070000
END:DAYLIGHT
BEGIN:STANDARD
TZOFFSETFROM:-0400
TZOFFSETTO:-0500
TZNAME:EST
DTSTART:20231105T060000
END:STANDARD
BEGIN:DAYLIGHT
TZOFFSETFROM:-0500
TZOFFSETTO:-0400
TZNAME:EDT
DTSTART:20240310T070000
END:DAYLIGHT
BEGIN:STANDARD
TZOFFSETFROM:-0400
TZOFFSETTO:-0500
TZNAME:EST
DTSTART:20241103T060000
END:STANDARD
END:VTIMEZONE
BEGIN:VEVENT
DTSTART;TZID=America/New_York:20231025T153000
DTEND;TZID=America/New_York:20231025T163000
DTSTAMP:20260425T185802
CREATED:20230808T193917Z
LAST-MODIFIED:20230808T193917Z
UID:36245-1698247800-1698251400@qi.ipro.org
SUMMARY:Boosters and Beyond: Geriatric Bootcamp: LTC: Dysphagia and Malnutrition (Live Replay)
DESCRIPTION:Topic: Boosters and Beyond: Geriatric Bootcamp: LTC: Dysphagia and Malnutrition (Live Replay) \nDescription: During this session\, we’ll explore dysphagia and malnutrition in long-term care residents.
URL:https://qi.ipro.org/upcoming-events/boosters-and-beyond-geriatric-bootcamp-ltc-dysphagia-and-malnutrition-live-replay/
LOCATION:Online via Zoom
CATEGORIES:Free event,Nursing Home
END:VEVENT
END:VCALENDAR