BEGIN:VCALENDAR
VERSION:2.0
PRODID:-//CMS QIN-QIO - ECPv6.15.20//NONSGML v1.0//EN
CALSCALE:GREGORIAN
METHOD:PUBLISH
X-ORIGINAL-URL:https://qi.ipro.org
X-WR-CALDESC:Events for CMS QIN-QIO
REFRESH-INTERVAL;VALUE=DURATION:PT1H
X-Robots-Tag:noindex
X-PUBLISHED-TTL:PT1H
BEGIN:VTIMEZONE
TZID:America/New_York
BEGIN:DAYLIGHT
TZOFFSETFROM:-0500
TZOFFSETTO:-0400
TZNAME:EDT
DTSTART:20220313T070000
END:DAYLIGHT
BEGIN:STANDARD
TZOFFSETFROM:-0400
TZOFFSETTO:-0500
TZNAME:EST
DTSTART:20221106T060000
END:STANDARD
BEGIN:DAYLIGHT
TZOFFSETFROM:-0500
TZOFFSETTO:-0400
TZNAME:EDT
DTSTART:20230312T070000
END:DAYLIGHT
BEGIN:STANDARD
TZOFFSETFROM:-0400
TZOFFSETTO:-0500
TZNAME:EST
DTSTART:20231105T060000
END:STANDARD
BEGIN:DAYLIGHT
TZOFFSETFROM:-0500
TZOFFSETTO:-0400
TZNAME:EDT
DTSTART:20240310T070000
END:DAYLIGHT
BEGIN:STANDARD
TZOFFSETFROM:-0400
TZOFFSETTO:-0500
TZNAME:EST
DTSTART:20241103T060000
END:STANDARD
END:VTIMEZONE
BEGIN:VEVENT
DTSTART;TZID=America/New_York:20230823T153000
DTEND;TZID=America/New_York:20230823T163000
DTSTAMP:20260425T222722
CREATED:20230808T182439Z
LAST-MODIFIED:20230808T182456Z
UID:36189-1692804600-1692808200@qi.ipro.org
SUMMARY:Boosters and Beyond: Boosters and Beyond: Geriatric Bootcamp: Skilled Care: Postoperative Management of the Older Adult (Live Replay)
DESCRIPTION:Topic: Boosters and Beyond: Geriatric Bootcamp: Skilled Care: Postoperative Management of the Older Adult (Live Replay) \nDescription: We will explore current advances in post-operative care\, in particular anticoagulation management\, deep vein thrombosis (DVT) prophylaxis\, and pain management.
URL:https://qi.ipro.org/upcoming-events/boosters-and-beyond-boosters-and-beyond-geriatric-bootcamp-skilled-care-postoperative-management-of-the-older-adult-live-replay/
LOCATION:Online via Zoom
CATEGORIES:Free event,Nursing Home
END:VEVENT
END:VCALENDAR