BEGIN:VCALENDAR
VERSION:2.0
PRODID:-//CMS QIN-QIO - ECPv6.15.20//NONSGML v1.0//EN
CALSCALE:GREGORIAN
METHOD:PUBLISH
X-ORIGINAL-URL:https://qi.ipro.org
X-WR-CALDESC:Events for CMS QIN-QIO
REFRESH-INTERVAL;VALUE=DURATION:PT1H
X-Robots-Tag:noindex
X-PUBLISHED-TTL:PT1H
BEGIN:VTIMEZONE
TZID:America/New_York
BEGIN:DAYLIGHT
TZOFFSETFROM:-0500
TZOFFSETTO:-0400
TZNAME:EDT
DTSTART:20220313T070000
END:DAYLIGHT
BEGIN:STANDARD
TZOFFSETFROM:-0400
TZOFFSETTO:-0500
TZNAME:EST
DTSTART:20221106T060000
END:STANDARD
BEGIN:DAYLIGHT
TZOFFSETFROM:-0500
TZOFFSETTO:-0400
TZNAME:EDT
DTSTART:20230312T070000
END:DAYLIGHT
BEGIN:STANDARD
TZOFFSETFROM:-0400
TZOFFSETTO:-0500
TZNAME:EST
DTSTART:20231105T060000
END:STANDARD
BEGIN:DAYLIGHT
TZOFFSETFROM:-0500
TZOFFSETTO:-0400
TZNAME:EDT
DTSTART:20240310T070000
END:DAYLIGHT
BEGIN:STANDARD
TZOFFSETFROM:-0400
TZOFFSETTO:-0500
TZNAME:EST
DTSTART:20241103T060000
END:STANDARD
END:VTIMEZONE
BEGIN:VEVENT
DTSTART;TZID=America/New_York:20231003T120000
DTEND;TZID=America/New_York:20231003T130000
DTSTAMP:20260425T184725
CREATED:20230808T191416Z
LAST-MODIFIED:20231010T154344Z
UID:36225-1696334400-1696338000@qi.ipro.org
SUMMARY:Boosters and Beyond: Geriatric Bootcamp: Skilled Care: Let's Talk UTIs
DESCRIPTION:Topic: Boosters and Beyond: Geriatric Bootcamp: Skilled Care: Let’s Talk UTIs \nDescription: This session is focused on solutions to urinary tract infections and asymptomatic bacteriuria in nursing home residents. \nWatch Presentation
URL:https://qi.ipro.org/upcoming-events/boosters-and-beyond-geriatric-bootcamp-skilled-care-lets-talk-utis/
LOCATION:Online via Zoom
CATEGORIES:Free event,Nursing Home
END:VEVENT
BEGIN:VEVENT
DTSTART;TZID=America/New_York:20231004T153000
DTEND;TZID=America/New_York:20231004T163000
DTSTAMP:20260425T184725
CREATED:20230808T191617Z
LAST-MODIFIED:20230808T191617Z
UID:36227-1696433400-1696437000@qi.ipro.org
SUMMARY:Boosters and Beyond: Geriatric Bootcamp: Skilled Care: Let's Talk UTIs (Live Replay)
DESCRIPTION:Topic: Boosters and Beyond: Geriatric Bootcamp: Skilled Care: Let’s Talk UTIs (Live Replay) \nDescription: This session is focused on solutions to urinary tract infections and asymptomatic bacteriuria in nursing home residents.
URL:https://qi.ipro.org/upcoming-events/boosters-and-beyond-geriatric-bootcamp-skilled-care-lets-talk-utis-live-replay/
LOCATION:Online via Zoom
CATEGORIES:Free event,Nursing Home
END:VEVENT
BEGIN:VEVENT
DTSTART;TZID=America/New_York:20231005T110000
DTEND;TZID=America/New_York:20231005T120000
DTSTAMP:20260425T184725
CREATED:20230808T192122Z
LAST-MODIFIED:20230808T202653Z
UID:36229-1696503600-1696507200@qi.ipro.org
SUMMARY:IP3: Infection Prevention for Infection Preventionists by Infection Preventionists
DESCRIPTION:IP3: Infection Prevention for Infection Preventionists by Infection Preventionists Office Hours \nDescription: Need a break in your day? Join us for our IPRO QIN-QIO IP3 Office Hours to hear what people are experiencing\, share ideas\, and brainstorm solutions.
URL:https://qi.ipro.org/upcoming-events/ip3-infection-prevention-for-infection-preventionists-by-infection-preventionists-8/
LOCATION:Online via Zoom
CATEGORIES:Free event,Nursing Home
END:VEVENT
BEGIN:VEVENT
DTSTART;TZID=America/New_York:20231011T153000
DTEND;TZID=America/New_York:20231011T163000
DTSTAMP:20260425T184725
CREATED:20230808T192536Z
LAST-MODIFIED:20230808T192536Z
UID:36233-1697038200-1697041800@qi.ipro.org
SUMMARY:Boosters and Beyond: Geriatric Bootcamp: LTC: Parkinson’s Disease (Live Replay)
DESCRIPTION:Topic: Boosters and Beyond: Geriatric Bootcamp: LTC: Parkinson’s Disease (Live Replay) \nDescription: This week we discuss Parkinson’s disease management in long-term care residents.
URL:https://qi.ipro.org/upcoming-events/boosters-and-beyond-geriatric-bootcamp-ltc-parkinsons-disease-live-replay/
LOCATION:Online via Zoom
CATEGORIES:Free event,Nursing Home
END:VEVENT
BEGIN:VEVENT
DTSTART;TZID=America/New_York:20231012T110000
DTEND;TZID=America/New_York:20231012T120000
DTSTAMP:20260425T184725
CREATED:20230808T192650Z
LAST-MODIFIED:20230808T192650Z
UID:36235-1697108400-1697112000@qi.ipro.org
SUMMARY:IP3: Infection Prevention for Infection Preventionists by Infection Preventionists
DESCRIPTION:IP3: Infection Prevention for Infection Preventionists by Infection Preventionists Office Hours \nDescription: Need a break in your day? Join us for our IPRO QIN-QIO IP3 Office Hours to hear what people are experiencing\, share ideas\, and brainstorm solutions.
URL:https://qi.ipro.org/upcoming-events/ip3-infection-prevention-for-infection-preventionists-by-infection-preventionists-9/
LOCATION:Online via Zoom
CATEGORIES:Free event,Nursing Home
END:VEVENT
BEGIN:VEVENT
DTSTART;TZID=America/New_York:20231017T120000
DTEND;TZID=America/New_York:20231017T130000
DTSTAMP:20260425T184725
CREATED:20230808T193206Z
LAST-MODIFIED:20230808T193206Z
UID:36237-1697544000-1697547600@qi.ipro.org
SUMMARY:Boosters and Beyond: Geriatric Bootcamp: LTC: Diabetes
DESCRIPTION:Topic: Boosters and Beyond: Geriatric Bootcamp: LTC: Diabetes \nDescription: Join us for a session focused on diabetes management in long-term care residents.
URL:https://qi.ipro.org/upcoming-events/boosters-and-beyond-geriatric-bootcamp-ltc-diabetes/
LOCATION:Online via Zoom
CATEGORIES:Free event,Nursing Home
END:VEVENT
BEGIN:VEVENT
DTSTART;TZID=America/New_York:20231018T153000
DTEND;TZID=America/New_York:20231018T163000
DTSTAMP:20260425T184725
CREATED:20230808T193328Z
LAST-MODIFIED:20230808T193328Z
UID:36239-1697643000-1697646600@qi.ipro.org
SUMMARY:Boosters and Beyond: Geriatric Bootcamp: LTC: Diabetes (Live Replay)
DESCRIPTION:Topic: Boosters and Beyond: Geriatric Bootcamp: LTC: Diabetes (Live Replay) \nDescription: Join us for a session focused on diabetes management in long-term care residents.
URL:https://qi.ipro.org/upcoming-events/boosters-and-beyond-geriatric-bootcamp-ltc-diabetes-live-replay/
LOCATION:Online via Zoom
CATEGORIES:Free event,Nursing Home
END:VEVENT
BEGIN:VEVENT
DTSTART;TZID=America/New_York:20231019T110000
DTEND;TZID=America/New_York:20231019T120000
DTSTAMP:20260425T184725
CREATED:20230808T193507Z
LAST-MODIFIED:20230808T193507Z
UID:36241-1697713200-1697716800@qi.ipro.org
SUMMARY:IP3: Infection Prevention for Infection Preventionists by Infection Preventionists
DESCRIPTION:IP3: Infection Prevention for Infection Preventionists by Infection Preventionists Office Hours \nDescription: Need a break in your day? Join us for our IPRO QIN-QIO IP3 Office Hours to hear what people are experiencing\, share ideas\, and brainstorm solutions.
URL:https://qi.ipro.org/upcoming-events/ip3-infection-prevention-for-infection-preventionists-by-infection-preventionists-10/
LOCATION:Online via Zoom
CATEGORIES:Free event,Nursing Home
END:VEVENT
BEGIN:VEVENT
DTSTART;TZID=America/New_York:20231024T120000
DTEND;TZID=America/New_York:20231024T130000
DTSTAMP:20260425T184725
CREATED:20230808T193736Z
LAST-MODIFIED:20230808T193736Z
UID:36243-1698148800-1698152400@qi.ipro.org
SUMMARY:Boosters and Beyond: Geriatric Bootcamp: LTC: Dysphagia and Malnutrition
DESCRIPTION:Topic: Boosters and Beyond: Geriatric Bootcamp: LTC: Dysphagia and Malnutrition \nDescription: During this session\, we’ll explore dysphagia and malnutrition in long-term care residents.
URL:https://qi.ipro.org/upcoming-events/boosters-and-beyond-geriatric-bootcamp-ltc-dysphagia-and-malnutrition/
LOCATION:Online via Zoom
CATEGORIES:Free event,Nursing Home
END:VEVENT
BEGIN:VEVENT
DTSTART;TZID=America/New_York:20231025T153000
DTEND;TZID=America/New_York:20231025T163000
DTSTAMP:20260425T184725
CREATED:20230808T193917Z
LAST-MODIFIED:20230808T193917Z
UID:36245-1698247800-1698251400@qi.ipro.org
SUMMARY:Boosters and Beyond: Geriatric Bootcamp: LTC: Dysphagia and Malnutrition (Live Replay)
DESCRIPTION:Topic: Boosters and Beyond: Geriatric Bootcamp: LTC: Dysphagia and Malnutrition (Live Replay) \nDescription: During this session\, we’ll explore dysphagia and malnutrition in long-term care residents.
URL:https://qi.ipro.org/upcoming-events/boosters-and-beyond-geriatric-bootcamp-ltc-dysphagia-and-malnutrition-live-replay/
LOCATION:Online via Zoom
CATEGORIES:Free event,Nursing Home
END:VEVENT
BEGIN:VEVENT
DTSTART;TZID=America/New_York:20231026T110000
DTEND;TZID=America/New_York:20231026T120000
DTSTAMP:20260425T184725
CREATED:20230808T194201Z
LAST-MODIFIED:20230808T194201Z
UID:36248-1698318000-1698321600@qi.ipro.org
SUMMARY:IP3: Infection Prevention for Infection Preventionists by Infection Preventionists
DESCRIPTION:IP3: Infection Prevention for Infection Preventionists by Infection Preventionists Office Hours \nDescription: Need a break in your day? Join us for our IPRO QIN-QIO IP3 Office Hours to hear what people are experiencing\, share ideas\, and brainstorm solutions.
URL:https://qi.ipro.org/upcoming-events/ip3-infection-prevention-for-infection-preventionists-by-infection-preventionists-11/
LOCATION:Online via Zoom
CATEGORIES:Free event,Nursing Home
END:VEVENT
BEGIN:VEVENT
DTSTART;TZID=America/New_York:20231031T120000
DTEND;TZID=America/New_York:20231031T130000
DTSTAMP:20260425T184725
CREATED:20230808T194409Z
LAST-MODIFIED:20230808T194409Z
UID:36250-1698753600-1698757200@qi.ipro.org
SUMMARY:Boosters and Beyond: Geriatric Bootcamp: LTC: Polypharmacy and Deprescribing
DESCRIPTION:Topic: Boosters and Beyond: Geriatric Bootcamp: LTC: Polypharmacy and Deprescribing \nDescription: This session examines polypharmacy and deprescribing in relation to long-term care residents.
URL:https://qi.ipro.org/upcoming-events/boosters-and-beyond-geriatric-bootcamp-ltc-polypharmacy-and-deprescribing/
LOCATION:Online via Zoom
CATEGORIES:Free event,Nursing Home
END:VEVENT
END:VCALENDAR