BEGIN:VCALENDAR
VERSION:2.0
PRODID:-//CMS QIN-QIO - ECPv6.15.20//NONSGML v1.0//EN
CALSCALE:GREGORIAN
METHOD:PUBLISH
X-ORIGINAL-URL:https://qi.ipro.org
X-WR-CALDESC:Events for CMS QIN-QIO
REFRESH-INTERVAL;VALUE=DURATION:PT1H
X-Robots-Tag:noindex
X-PUBLISHED-TTL:PT1H
BEGIN:VTIMEZONE
TZID:America/New_York
BEGIN:DAYLIGHT
TZOFFSETFROM:-0500
TZOFFSETTO:-0400
TZNAME:EDT
DTSTART:20220313T070000
END:DAYLIGHT
BEGIN:STANDARD
TZOFFSETFROM:-0400
TZOFFSETTO:-0500
TZNAME:EST
DTSTART:20221106T060000
END:STANDARD
BEGIN:DAYLIGHT
TZOFFSETFROM:-0500
TZOFFSETTO:-0400
TZNAME:EDT
DTSTART:20230312T070000
END:DAYLIGHT
BEGIN:STANDARD
TZOFFSETFROM:-0400
TZOFFSETTO:-0500
TZNAME:EST
DTSTART:20231105T060000
END:STANDARD
BEGIN:DAYLIGHT
TZOFFSETFROM:-0500
TZOFFSETTO:-0400
TZNAME:EDT
DTSTART:20240310T070000
END:DAYLIGHT
BEGIN:STANDARD
TZOFFSETFROM:-0400
TZOFFSETTO:-0500
TZNAME:EST
DTSTART:20241103T060000
END:STANDARD
END:VTIMEZONE
BEGIN:VEVENT
DTSTART;TZID=America/New_York:20230905T120000
DTEND;TZID=America/New_York:20230905T130000
DTSTAMP:20260425T185631
CREATED:20230808T183736Z
LAST-MODIFIED:20230908T164308Z
UID:36199-1693915200-1693918800@qi.ipro.org
SUMMARY:Boosters and Beyond: Geriatric Bootcamp: Skilled Care: Trauma Management
DESCRIPTION:Topic: Boosters and Beyond: Geriatric Bootcamp: Skilled Care: Trauma Management \nDescription: This session explores trauma principles and management of hip fracture\, multiple rib fractures\, polytrauma\, and head injury. \nWatch Presentation\n 
URL:https://qi.ipro.org/upcoming-events/boosters-and-beyond-geriatric-bootcamp-skilled-care-trauma-management/
LOCATION:Online via Zoom
CATEGORIES:Free event,Nursing Home
END:VEVENT
BEGIN:VEVENT
DTSTART;TZID=America/New_York:20230906T153000
DTEND;TZID=America/New_York:20230906T163000
DTSTAMP:20260425T185631
CREATED:20230808T184004Z
LAST-MODIFIED:20230908T164342Z
UID:36201-1694014200-1694017800@qi.ipro.org
SUMMARY:Boosters and Beyond: Geriatric Bootcamp: Skilled Care: Trauma Management (Live Replay)
DESCRIPTION:Topic: Boosters and Beyond: Geriatric Bootcamp: Skilled Care: Trauma Management (Live Replay) \nDescription: This session explores trauma principles and management of hip fracture\, multiple rib fractures\, polytrauma\, and head injury. \n 
URL:https://qi.ipro.org/upcoming-events/boosters-and-beyond-geriatric-bootcamp-skilled-care-trauma-management-live-replay/
LOCATION:Online via Zoom
CATEGORIES:Free event,Nursing Home
END:VEVENT
BEGIN:VEVENT
DTSTART;TZID=America/New_York:20230907T110000
DTEND;TZID=America/New_York:20230907T120000
DTSTAMP:20260425T185631
CREATED:20230808T184152Z
LAST-MODIFIED:20230908T164410Z
UID:36203-1694084400-1694088000@qi.ipro.org
SUMMARY:IP3: Infection Prevention for Infection Preventionists by Infection Preventionists
DESCRIPTION:IP3: Infection Prevention for Infection Preventionists by Infection Preventionists Office Hours \nDescription: Need a break in your day? Join us for our IPRO QIN-QIO IP3 Office Hours to hear what people are experiencing\, share ideas\, and brainstorm solutions. \n 
URL:https://qi.ipro.org/upcoming-events/ip3-infection-prevention-for-infection-preventionists-by-infection-preventionists-4/
LOCATION:Online via Zoom
CATEGORIES:Free event,Nursing Home
END:VEVENT
BEGIN:VEVENT
DTSTART;TZID=America/New_York:20230912T120000
DTEND;TZID=America/New_York:20230912T130000
DTSTAMP:20260425T185631
CREATED:20230808T182921Z
LAST-MODIFIED:20231010T154014Z
UID:36193-1694520000-1694523600@qi.ipro.org
SUMMARY:Boosters and Beyond: Geriatric Bootcamp: Skilled Care: GI Bleed
DESCRIPTION:Topic: Boosters and Beyond: Geriatric Bootcamp: Skilled Care: GI Bleed \nDescription: We will explore risk assessment and evaluation of upper and lower gastrointestinal (GI) bleed. \nView Slides\nWatch Presentation\n 
URL:https://qi.ipro.org/upcoming-events/boosters-and-beyond-geriatric-bootcamp-skilled-care-gi-bleed/
LOCATION:Online via Zoom
CATEGORIES:Free event,Nursing Home
END:VEVENT
BEGIN:VEVENT
DTSTART;TZID=America/New_York:20230913T153000
DTEND;TZID=America/New_York:20230913T163000
DTSTAMP:20260425T185631
CREATED:20230808T183142Z
LAST-MODIFIED:20230922T151600Z
UID:36195-1694619000-1694622600@qi.ipro.org
SUMMARY:Boosters and Beyond: Geriatric Bootcamp: Skilled Care: GI Bleed (Live Replay)
DESCRIPTION:Topic: Boosters and Beyond: Geriatric Bootcamp: Skilled Care: GI Bleed (Live Replay) \nDescription: We will explore risk assessment and evaluation of upper and lower gastrointestinal (GI) bleed.
URL:https://qi.ipro.org/upcoming-events/boosters-and-beyond-geriatric-bootcamp-skilled-care-gi-bleed-live-replay/
LOCATION:Online via Zoom
CATEGORIES:Free event,Nursing Home
END:VEVENT
BEGIN:VEVENT
DTSTART;TZID=America/New_York:20230914T110000
DTEND;TZID=America/New_York:20230914T120000
DTSTAMP:20260425T185631
CREATED:20230808T184848Z
LAST-MODIFIED:20230922T151621Z
UID:36209-1694689200-1694692800@qi.ipro.org
SUMMARY:IP3: Infection Prevention for Infection Preventionists by Infection Preventionists
DESCRIPTION:IP3: Infection Prevention for Infection Preventionists by Infection Preventionists Office Hours \nDescription: Need a break in your day? Join us for our IPRO QIN-QIO IP3 Office Hours to hear what people are experiencing\, share ideas\, and brainstorm solutions.
URL:https://qi.ipro.org/upcoming-events/ip3-infection-prevention-for-infection-preventionists-by-infection-preventionists-5/
LOCATION:Online via Zoom
CATEGORIES:Free event,Nursing Home
END:VEVENT
BEGIN:VEVENT
DTSTART;TZID=America/New_York:20230919T120000
DTEND;TZID=America/New_York:20230919T130000
DTSTAMP:20260425T185631
CREATED:20230808T185244Z
LAST-MODIFIED:20230922T151448Z
UID:36211-1695124800-1695128400@qi.ipro.org
SUMMARY:Boosters and Beyond: Geriatric Bootcamp: Skilled Care: Acute Kidney Injury and Urinary Retention
DESCRIPTION:Topic: Boosters and Beyond: Geriatric Bootcamp: Skilled Care: Acute Kidney Injury and Urinary Retention \nDescription: This session examines prevention\, evaluation\, and treatment of acute kidney injury (AKI) and urinary retention in skilled care patients. \nView Slides\nWatch Presentation\n 
URL:https://qi.ipro.org/upcoming-events/boosters-and-beyond-geriatric-bootcamp-skilled-care-acute-kidney-injury-and-urinary-retention/
LOCATION:Online via Zoom
CATEGORIES:Free event,Nursing Home
END:VEVENT
BEGIN:VEVENT
DTSTART;TZID=America/New_York:20230920T153000
DTEND;TZID=America/New_York:20230920T163000
DTSTAMP:20260425T185631
CREATED:20230808T190131Z
LAST-MODIFIED:20230921T195910Z
UID:36215-1695223800-1695227400@qi.ipro.org
SUMMARY:Boosters and Beyond: Geriatric Bootcamp: Skilled Care: Acute Kidney Injury and Urinary Retention (Live Replay)
DESCRIPTION:Topic: Boosters and Beyond: Geriatric Bootcamp: Skilled Care: Acute Kidney Injury and Urinary Retention (Live Replay) \nDescription: This session examines prevention\, evaluation\, and treatment of acute kidney injury (AKJ) and urinary retention in skilled care patients.
URL:https://qi.ipro.org/upcoming-events/boosters-and-beyond-geriatric-bootcamp-skilled-care-acute-kidney-injury-and-urinary-retention-live-replay/
LOCATION:Online via Zoom
CATEGORIES:Free event,Nursing Home
END:VEVENT
BEGIN:VEVENT
DTSTART;TZID=America/New_York:20230921T110000
DTEND;TZID=America/New_York:20230921T120000
DTSTAMP:20260425T185631
CREATED:20230808T190325Z
LAST-MODIFIED:20230921T195925Z
UID:36217-1695294000-1695297600@qi.ipro.org
SUMMARY:IP3: Infection Prevention for Infection Preventionists by Infection Preventionists
DESCRIPTION:IP3: Infection Prevention for Infection Preventionists by Infection Preventionists Office Hours \nDescription: Need a break in your day? Join us for our IPRO QIN-QIO IP3 Office Hours to hear what people are experiencing\, share ideas\, and brainstorm solutions.
URL:https://qi.ipro.org/upcoming-events/ip3-infection-prevention-for-infection-preventionists-by-infection-preventionists-6/
LOCATION:Online via Zoom
CATEGORIES:Free event,Nursing Home
END:VEVENT
BEGIN:VEVENT
DTSTART;TZID=America/New_York:20230926T120000
DTEND;TZID=America/New_York:20230926T130000
DTSTAMP:20260425T185631
CREATED:20230808T190551Z
LAST-MODIFIED:20231010T154251Z
UID:36219-1695729600-1695733200@qi.ipro.org
SUMMARY:Boosters and Beyond: Geriatric Bootcamp: Skilled Care: The Heart of the Matter
DESCRIPTION:Topic: Boosters and Beyond: Geriatric Bootcamp: Skilled Care: The Heart of the Matter \nDescription: In this session\, learn how to manage skilled care patients with acute heart failure\, cardiac ischemia\, and atrial fibrillation. \nWatch Presentation
URL:https://qi.ipro.org/upcoming-events/boosters-and-beyond-geriatric-bootcamp-skilled-care-the-heart-of-the-matter/
LOCATION:Online via Zoom
CATEGORIES:Free event,Nursing Home
END:VEVENT
BEGIN:VEVENT
DTSTART;TZID=America/New_York:20230927T153000
DTEND;TZID=America/New_York:20230927T163000
DTSTAMP:20260425T185631
CREATED:20230808T190957Z
LAST-MODIFIED:20230808T190957Z
UID:36221-1695828600-1695832200@qi.ipro.org
SUMMARY:Boosters and Beyond: Geriatric Bootcamp: Skilled Care: The Heart of the Matter (Live Replay)
DESCRIPTION:Topic: Boosters and Beyond: Geriatric Bootcamp: Skilled Care: The Heart of the Matter (Live Replay) \nDescription: In this session\, learn how to manage skilled care patients with acute heart failure\, cardiac ischemia\, and atrial fibrillation.
URL:https://qi.ipro.org/upcoming-events/boosters-and-beyond-geriatric-bootcamp-skilled-care-the-heart-of-the-matter-live-replay/
LOCATION:Online via Zoom
CATEGORIES:Free event,Nursing Home
END:VEVENT
BEGIN:VEVENT
DTSTART;TZID=America/New_York:20230928T110000
DTEND;TZID=America/New_York:20230928T120000
DTSTAMP:20260425T185631
CREATED:20230808T191135Z
LAST-MODIFIED:20230808T191135Z
UID:36223-1695898800-1695902400@qi.ipro.org
SUMMARY:IP3: Infection Prevention for Infection Preventionists by Infection Preventionists
DESCRIPTION:IP3: Infection Prevention for Infection Preventionists by Infection Preventionists Office Hours \nDescription: Need a break in your day? Join us for our IPRO QIN-QIO IP3 Office Hours to hear what people are experiencing\, share ideas\, and brainstorm solutions.
URL:https://qi.ipro.org/upcoming-events/ip3-infection-prevention-for-infection-preventionists-by-infection-preventionists-7/
LOCATION:Online via Zoom
CATEGORIES:Free event,Nursing Home
END:VEVENT
END:VCALENDAR