BEGIN:VCALENDAR
VERSION:2.0
PRODID:-//CMS QIN-QIO - ECPv6.15.20//NONSGML v1.0//EN
CALSCALE:GREGORIAN
METHOD:PUBLISH
X-WR-CALNAME:CMS QIN-QIO
X-ORIGINAL-URL:https://qi.ipro.org
X-WR-CALDESC:Events for CMS QIN-QIO
REFRESH-INTERVAL;VALUE=DURATION:PT1H
X-Robots-Tag:noindex
X-PUBLISHED-TTL:PT1H
BEGIN:VTIMEZONE
TZID:America/New_York
BEGIN:DAYLIGHT
TZOFFSETFROM:-0500
TZOFFSETTO:-0400
TZNAME:EDT
DTSTART:20220313T070000
END:DAYLIGHT
BEGIN:STANDARD
TZOFFSETFROM:-0400
TZOFFSETTO:-0500
TZNAME:EST
DTSTART:20221106T060000
END:STANDARD
BEGIN:DAYLIGHT
TZOFFSETFROM:-0500
TZOFFSETTO:-0400
TZNAME:EDT
DTSTART:20230312T070000
END:DAYLIGHT
BEGIN:STANDARD
TZOFFSETFROM:-0400
TZOFFSETTO:-0500
TZNAME:EST
DTSTART:20231105T060000
END:STANDARD
BEGIN:DAYLIGHT
TZOFFSETFROM:-0500
TZOFFSETTO:-0400
TZNAME:EDT
DTSTART:20240310T070000
END:DAYLIGHT
BEGIN:STANDARD
TZOFFSETFROM:-0400
TZOFFSETTO:-0500
TZNAME:EST
DTSTART:20241103T060000
END:STANDARD
END:VTIMEZONE
BEGIN:VEVENT
DTSTART;TZID=America/New_York:20230711T120000
DTEND;TZID=America/New_York:20230711T130000
DTSTAMP:20260425T235744
CREATED:20230421T194534Z
LAST-MODIFIED:20230713T135724Z
UID:35500-1689076800-1689080400@qi.ipro.org
SUMMARY:Boosters and Beyond: Holistic Dementia Care Approaches & Antipsychotic Drug Reduction: Family and Resident Education
DESCRIPTION:Topic: Boosters and Beyond: Holistic Dementia Care Approaches & Antipsychotic Drug Reduction: Family and Resident Education \nDescription: Providing dementia care education helps encourage alliance with family members. During this session\, we discuss educating family members on the trajectory of dementia. We also explain how staff can avoid using antipsychotics as they become more familiar with other expression/behavior prevention strategies\, and how to re-introduce Gradual Dose Reduction (GDR) when an initial attempt has not been successful. \nIn this session\, we will: \n\nDescribe effective communication strategies with families\nList family concerns regarding GDR of antipsychotic medications\n\nWatch the Recording
URL:https://qi.ipro.org/upcoming-events/boosters-and-beyond-holistic-dementia-care-approaches-antipsychotic-drug-reduction-family-and-resident-education/
LOCATION:Online via Zoom
CATEGORIES:Free event,Nursing Home
END:VEVENT
BEGIN:VEVENT
DTSTART;TZID=America/New_York:20230712T153000
DTEND;TZID=America/New_York:20230712T163000
DTSTAMP:20260425T235744
CREATED:20230421T202349Z
LAST-MODIFIED:20230731T151631Z
UID:35517-1689175800-1689179400@qi.ipro.org
SUMMARY:Boosters and Beyond: Holistic Dementia Care & Antipsychotic Drug Reduction: Family and Resident Education (Live Replay)
DESCRIPTION:Topic: Boosters and Beyond: Holistic Dementia Care & Antipsychotic Drug Reduction: Family and Resident Education (Live Replay) \nDescription: Live Replay \n 
URL:https://qi.ipro.org/upcoming-events/boosters-and-beyond-holistic-dementia-care-antipsychotic-drug-reduction-family-and-resident-education-live-replay/
LOCATION:Online via Zoom
CATEGORIES:Free event,Nursing Home
END:VEVENT
BEGIN:VEVENT
DTSTART;TZID=America/New_York:20230713T110000
DTEND;TZID=America/New_York:20230713T120000
DTSTAMP:20260425T235744
CREATED:20230421T202542Z
LAST-MODIFIED:20230615T201559Z
UID:35519-1689246000-1689249600@qi.ipro.org
SUMMARY:Boosters and Beyond: Holistic Dementia Care & Antipsychotic Drug Reduction: Family and Resident Education (IP3)
DESCRIPTION:Topic: Boosters and Beyond: Holistic Dementia Care & Antipsychotic Drug Reduction: Family and Resident Education (IP3 Infection Prevention for Infection Preventionists by Infection Preventionists Office Hours) \nDescription: Calling all Infection Preventionists! This lively discussion features peer-to-peer learning and lots of great ideas. Stop what you’re doing\, come take a break\, and spend some time with fellow IPs.
URL:https://qi.ipro.org/upcoming-events/boosters-and-beyond-holistic-dementia-care-antipsychotic-drug-reduction-family-and-resident-education-ip3/
LOCATION:Online via Zoom
CATEGORIES:Free event,Nursing Home
END:VEVENT
BEGIN:VEVENT
DTSTART;TZID=America/New_York:20230718T120000
DTEND;TZID=America/New_York:20230718T130000
DTSTAMP:20260425T235744
CREATED:20230421T195225Z
LAST-MODIFIED:20230717T165236Z
UID:35504-1689681600-1689685200@qi.ipro.org
SUMMARY:Boosters and Beyond: Holistic Dementia Care Approaches & Antipsychotic Drug Reduction: Antipsychotic Use at the End of Life
DESCRIPTION:Topic: Boosters and Beyond: Holistic Dementia Care Approaches & Antipsychotic Drug Reduction: Antipsychotic Use at the End of Life \nDescription: A hospice and palliative medicine expert will discuss how antipsychotics may be used in terminal delirium for residents dying in the nursing home. In addition\, we will discuss the hospice management of end stage dementia and how collaborating with your hospice team can reduce antipsychotic use. In this session\, we will: \n\nDefine terminal delirium.\nDescribe strategies for managing terminal delirium without antipsychotic medications.\nIdentify circumstances when antipsychotic medications can be gradually discontinued in end-stage dementia.
URL:https://qi.ipro.org/upcoming-events/boosters-and-beyond-holistic-dementia-care-approaches-antipsychotic-drug-reduction-antipsychotic-use-at-the-end-of-life/
LOCATION:Online via Zoom
CATEGORIES:Free event,Nursing Home
END:VEVENT
BEGIN:VEVENT
DTSTART;TZID=America/New_York:20230719T153000
DTEND;TZID=America/New_York:20230719T163000
DTSTAMP:20260425T235744
CREATED:20230421T203354Z
LAST-MODIFIED:20230717T165335Z
UID:35526-1689780600-1689784200@qi.ipro.org
SUMMARY:Boosters and Beyond: Holistic Dementia Care Approaches & Antipsychotic Drug Reduction: Antipsychotic Use at the End of Life (Live Replay)
DESCRIPTION:Topic: Boosters and Beyond: Holistic Dementia Care Approaches & Antipsychotic Drug Reduction: Antipsychotic Use at the End of Life (Live Replay) \nDescription: Live Replay
URL:https://qi.ipro.org/upcoming-events/boosters-and-beyond-holistic-dementia-care-approaches-antipsychotic-drug-reduction-antipsychotic-use-at-the-end-of-life-live-replay/
LOCATION:Online via Zoom
CATEGORIES:Free event,Nursing Home
END:VEVENT
BEGIN:VEVENT
DTSTART;TZID=America/New_York:20230720T110000
DTEND;TZID=America/New_York:20230720T120000
DTSTAMP:20260425T235744
CREATED:20230421T203527Z
LAST-MODIFIED:20230717T165423Z
UID:35528-1689850800-1689854400@qi.ipro.org
SUMMARY:Boosters and Beyond: Holistic Dementia Care Approaches & Antipsychotic Drug Reduction: Antipsychotic Use at the End of Life (IP3)
DESCRIPTION:Topic: Boosters and Beyond: Holistic Dementia Care Approaches & Antipsychotic Drug Reduction: Antipsychotic Use at the End of Life (IP3 Infection Prevention for Infection Preventionists by Infection Preventionists Office Hours) \nDescription: Calling all Infection Preventionists! This lively discussion features peer-to-peer learning and lots of great ideas. Stop what you’re doing\, come take a break\, and spend some time with fellow IPs.
URL:https://qi.ipro.org/upcoming-events/boosters-and-beyond-holistic-dementia-care-approaches-antipsychotic-drug-reduction-antipsychotic-use-at-the-end-of-life-ip3/
LOCATION:Online via Zoom
CATEGORIES:Free event,Nursing Home
END:VEVENT
BEGIN:VEVENT
DTSTART;TZID=America/New_York:20230725T120000
DTEND;TZID=America/New_York:20230725T130000
DTSTAMP:20260425T235744
CREATED:20230421T194927Z
LAST-MODIFIED:20230720T132020Z
UID:35502-1690286400-1690290000@qi.ipro.org
SUMMARY:Boosters and Beyond: Holistic Dementia Care Approaches & Antipsychotic Drug Reduction: Perspectives from a Surveyor
DESCRIPTION:Topic: Boosters and Beyond: Holistic Dementia Care Approaches & Antipsychotic Drug Reduction: Perspectives from a Surveyor \nDescription: Hear first-hand as an expert surveyor shares their approach to antipsychotic reduction in nursing home residents with dementia and learn strategies to ensure compliance while improving residents’ health and quality of life. \nIn this session\, we will: \n\nList specific antipsychotic rules and regulations that nursing homes are expected to follow.\nDescribe strategies to comply with these rules.
URL:https://qi.ipro.org/upcoming-events/boosters-and-beyond-holistic-dementia-care-approaches-antipsychotic-drug-reduction-perspectives-from-a-surveyor/
LOCATION:Online via Zoom
CATEGORIES:Free event,Nursing Home
END:VEVENT
BEGIN:VEVENT
DTSTART;TZID=America/New_York:20230726T153000
DTEND;TZID=America/New_York:20230726T163000
DTSTAMP:20260425T235744
CREATED:20230421T202822Z
LAST-MODIFIED:20230717T165718Z
UID:35521-1690385400-1690389000@qi.ipro.org
SUMMARY:Boosters and Beyond: Holistic Dementia Care & Antipsychotic Drug Reduction: Perspectives from a Surveyor (Live Replay)
DESCRIPTION:Topic: Boosters and Beyond: Holistic Dementia Care & Antipsychotic Drug Reduction: Perspectives from a Surveyor (Live Replay) \nDescription: Live Replay
URL:https://qi.ipro.org/upcoming-events/boosters-and-beyond-holistic-dementia-care-antipsychotic-drug-reduction-perspectives-from-a-surveyor-live-replay/
LOCATION:Online via Zoom
CATEGORIES:Free event,Nursing Home
END:VEVENT
BEGIN:VEVENT
DTSTART;TZID=America/New_York:20230727T110000
DTEND;TZID=America/New_York:20230727T120000
DTSTAMP:20260425T235744
CREATED:20230421T203146Z
LAST-MODIFIED:20230717T165742Z
UID:35524-1690455600-1690459200@qi.ipro.org
SUMMARY:Boosters and Beyond: Holistic Dementia Care & Antipsychotic Drug Reduction: Perspectives from a Surveyor (IP3)
DESCRIPTION:Topic: Boosters and Beyond: Holistic Dementia Care & Antipsychotic Drug Reduction: Perspectives from a Surveyor (IP3 Infection Prevention for Infection Preventionists by Infection Preventionists Office Hours) \nDescription: Calling all Infection Preventionists! This lively discussion features peer-to-peer learning and lots of great ideas. Stop what you’re doing\, come take a break\, and spend some time with fellow IPs.
URL:https://qi.ipro.org/upcoming-events/boosters-and-beyond-holistic-dementia-care-antipsychotic-drug-reduction-perspectives-from-a-surveyor-ip3/
LOCATION:Online via Zoom
CATEGORIES:Free event,Nursing Home
END:VEVENT
END:VCALENDAR