BEGIN:VCALENDAR
VERSION:2.0
PRODID:-//CMS QIN-QIO - ECPv6.15.20//NONSGML v1.0//EN
CALSCALE:GREGORIAN
METHOD:PUBLISH
X-WR-CALNAME:CMS QIN-QIO
X-ORIGINAL-URL:https://qi.ipro.org
X-WR-CALDESC:Events for CMS QIN-QIO
REFRESH-INTERVAL;VALUE=DURATION:PT1H
X-Robots-Tag:noindex
X-PUBLISHED-TTL:PT1H
BEGIN:VTIMEZONE
TZID:America/New_York
BEGIN:DAYLIGHT
TZOFFSETFROM:-0500
TZOFFSETTO:-0400
TZNAME:EDT
DTSTART:20220313T070000
END:DAYLIGHT
BEGIN:STANDARD
TZOFFSETFROM:-0400
TZOFFSETTO:-0500
TZNAME:EST
DTSTART:20221106T060000
END:STANDARD
BEGIN:DAYLIGHT
TZOFFSETFROM:-0500
TZOFFSETTO:-0400
TZNAME:EDT
DTSTART:20230312T070000
END:DAYLIGHT
BEGIN:STANDARD
TZOFFSETFROM:-0400
TZOFFSETTO:-0500
TZNAME:EST
DTSTART:20231105T060000
END:STANDARD
BEGIN:DAYLIGHT
TZOFFSETFROM:-0500
TZOFFSETTO:-0400
TZNAME:EDT
DTSTART:20240310T070000
END:DAYLIGHT
BEGIN:STANDARD
TZOFFSETFROM:-0400
TZOFFSETTO:-0500
TZNAME:EST
DTSTART:20241103T060000
END:STANDARD
END:VTIMEZONE
BEGIN:VEVENT
DTSTART;TZID=America/New_York:20230620T120000
DTEND;TZID=America/New_York:20230620T130000
DTSTAMP:20260425T235744
CREATED:20230615T203047Z
LAST-MODIFIED:20230718T144004Z
UID:35804-1687262400-1687266000@qi.ipro.org
SUMMARY:Boosters and Beyond: Holistic Dementia Care Approaches & Antipsychotic Drug Reduction: Setting Up Your Organization for Success
DESCRIPTION:Topic: Boosters and Beyond: Holistic Dementia Care Approaches & Antipsychotic Drug Reduction: Setting Up Your Organization for Success \nDescription: Empowering all members of your team\, including staff and family members\, to work toward reducing antipsychotic medication use in residents with dementia is the key to success. During this session\, our expert\, a nursing home registered nurse\, will: \n\nList ways to improve off shift management of residents with behavior problems.\nIdentify systems-based strategies for ensuring a successful campaign of antipsychotic reduction.\nDescribe an example of a nursing home that has been successful in implementing antipsychotic reduction.\n\nWatch the Recording
URL:https://qi.ipro.org/upcoming-events/boosters-and-beyond-holistic-dementia-care-approaches-antipsychotic-drug-reduction-setting-up-your-organization-for-success/
LOCATION:Online via Zoom
CATEGORIES:Free event,Nursing Home
END:VEVENT
BEGIN:VEVENT
DTSTART;TZID=America/New_York:20230621T153000
DTEND;TZID=America/New_York:20230621T163000
DTSTAMP:20260425T235744
CREATED:20230615T203513Z
LAST-MODIFIED:20230718T144052Z
UID:35806-1687361400-1687365000@qi.ipro.org
SUMMARY:Boosters and Beyond: Holistic Dementia Care Approaches & Antipsychotic Drug Reduction: Setting Up Your Organization for Success (Live Replay)
DESCRIPTION:Topic: Boosters and Beyond: Holistic Dementia Care & Antipsychotic Drug Reduction: Setting Up Your Organization for Success (Live Replay) \nDescription: Live Replay \n 
URL:https://qi.ipro.org/upcoming-events/boosters-and-beyond-holistic-dementia-care-approaches-antipsychotic-drug-reduction-setting-up-your-organization-for-success-live-replay/
LOCATION:Online via Zoom
CATEGORIES:Free event,Nursing Home
END:VEVENT
BEGIN:VEVENT
DTSTART;TZID=America/New_York:20230622T110000
DTEND;TZID=America/New_York:20230622T120000
DTSTAMP:20260425T235744
CREATED:20230615T203830Z
LAST-MODIFIED:20230718T144206Z
UID:35809-1687431600-1687435200@qi.ipro.org
SUMMARY:Boosters and Beyond: Holistic Dementia Care & Antipsychotic Drug Reduction: Setting Up Your Organization for Success (IP3)
DESCRIPTION:Topic: Boosters and Beyond: Holistic Dementia Care & Antipsychotic Drug Reduction: Setting Up Your Organization for Success (IP3 Infection Prevention for Infection Preventionists by Infection Preventionists Office Hours) \nDescription: Calling all Infection Preventionists! This lively discussion features peer-to-peer learning and lots of great ideas. Stop what you’re doing\, come take a break\, and spend some time with fellow IPs. \n 
URL:https://qi.ipro.org/upcoming-events/boosters-and-beyond-holistic-dementia-care-antipsychotic-drug-reduction-setting-up-your-organization-for-success-ip3-2/
LOCATION:Online via Zoom
CATEGORIES:Free event,Nursing Home
END:VEVENT
BEGIN:VEVENT
DTSTART;TZID=America/New_York:20230627T120000
DTEND;TZID=America/New_York:20230627T130000
DTSTAMP:20260425T235744
CREATED:20230421T192953Z
LAST-MODIFIED:20230718T144430Z
UID:35498-1687867200-1687870800@qi.ipro.org
SUMMARY:Boosters and Beyond: Holistic Dementia Care Approaches & Antipsychotic Drug Reduction: Gradual Dose Reduction Strategies and Resources
DESCRIPTION:Topic: Boosters and Beyond: Holistic Dementia Care Approaches & Antipsychotic Drug Reduction: Gradual Dose Reduction Strategies and Resources \nDescription: We will discuss successful strategies for Gradual Dose Reduction of medications with a focus on antipsychotic medications. We will highlight nursing homes that have worked with staff\, pharmacists\, and providers to create a successful GDR protocol. \nWatch the Recording\n 
URL:https://qi.ipro.org/upcoming-events/boosters-and-beyond-holistic-dementia-care-approaches-antipsychotic-drug-reduction-gdr-strategies-and-resources/
LOCATION:Online via Zoom
CATEGORIES:Free event,Nursing Home
END:VEVENT
BEGIN:VEVENT
DTSTART;TZID=America/New_York:20230628T153000
DTEND;TZID=America/New_York:20230628T163000
DTSTAMP:20260425T235744
CREATED:20230421T201916Z
LAST-MODIFIED:20230718T144445Z
UID:35512-1687966200-1687969800@qi.ipro.org
SUMMARY:Boosters and Beyond: Holistic Dementia Care & Antipsychotic Drug Reduction: GDR Strategies and Resources (Live Replay)
DESCRIPTION:Topic: Boosters and Beyond: Holistic Dementia Care & Antipsychotic Drug Reduction: GDR Strategies and Resources (Live Replay) \nDescription: Live Replay \n 
URL:https://qi.ipro.org/upcoming-events/boosters-and-beyond-holistic-dementia-care-antipsychotic-drug-reduction-gdr-strategies-and-resources-live-replay/
LOCATION:Online via Zoom
CATEGORIES:Free event,Nursing Home
END:VEVENT
BEGIN:VEVENT
DTSTART;TZID=America/New_York:20230629T110000
DTEND;TZID=America/New_York:20230629T120000
DTSTAMP:20260425T235744
CREATED:20230421T202139Z
LAST-MODIFIED:20230718T144505Z
UID:35514-1688036400-1688040000@qi.ipro.org
SUMMARY:Boosters and Beyond: Holistic Dementia Care & Antipsychotic Drug Reduction: GDR Strategies and Resources (IP3)
DESCRIPTION:Topic: Boosters and Beyond: Holistic Dementia Care & Antipsychotic Drug Reduction: GDR Strategies and Resources (IP3 Infection Prevention for Infection Preventionists by Infection Preventionists Office Hours) \nDescription: Calling all Infection Preventionists! This lively discussion features peer-to-peer learning and lots of great ideas. Stop what you’re doing\, come take a break\, and spend some time with fellow IPs. \n 
URL:https://qi.ipro.org/upcoming-events/boosters-and-beyond-holistic-dementia-care-antipsychotic-drug-reduction-gdr-strategies-and-resources-ip3/
LOCATION:Online via Zoom
CATEGORIES:Free event,Nursing Home
END:VEVENT
END:VCALENDAR