BEGIN:VCALENDAR
VERSION:2.0
PRODID:-//CMS QIN-QIO - ECPv6.15.20//NONSGML v1.0//EN
CALSCALE:GREGORIAN
METHOD:PUBLISH
X-ORIGINAL-URL:https://qi.ipro.org
X-WR-CALDESC:Events for CMS QIN-QIO
REFRESH-INTERVAL;VALUE=DURATION:PT1H
X-Robots-Tag:noindex
X-PUBLISHED-TTL:PT1H
BEGIN:VTIMEZONE
TZID:America/New_York
BEGIN:DAYLIGHT
TZOFFSETFROM:-0500
TZOFFSETTO:-0400
TZNAME:EDT
DTSTART:20220313T070000
END:DAYLIGHT
BEGIN:STANDARD
TZOFFSETFROM:-0400
TZOFFSETTO:-0500
TZNAME:EST
DTSTART:20221106T060000
END:STANDARD
BEGIN:DAYLIGHT
TZOFFSETFROM:-0500
TZOFFSETTO:-0400
TZNAME:EDT
DTSTART:20230312T070000
END:DAYLIGHT
BEGIN:STANDARD
TZOFFSETFROM:-0400
TZOFFSETTO:-0500
TZNAME:EST
DTSTART:20231105T060000
END:STANDARD
BEGIN:DAYLIGHT
TZOFFSETFROM:-0500
TZOFFSETTO:-0400
TZNAME:EDT
DTSTART:20240310T070000
END:DAYLIGHT
BEGIN:STANDARD
TZOFFSETFROM:-0400
TZOFFSETTO:-0500
TZNAME:EST
DTSTART:20241103T060000
END:STANDARD
END:VTIMEZONE
BEGIN:VEVENT
DTSTART;TZID=America/New_York:20230420T120000
DTEND;TZID=America/New_York:20230420T130000
DTSTAMP:20260424T055544
CREATED:20230407T124849Z
LAST-MODIFIED:20230413T164348Z
UID:35350-1681992000-1681995600@qi.ipro.org
SUMMARY:Your Worst Day: When Things Get Real!
DESCRIPTION:Description: In this real-world presentation\, healthcare providers who have firsthand experience with emergency events will share their stories and insights to aid listeners in their own emergency planning \nIn this session participants will: \n\nIdentify key components of emergency plans.\nRecognize\, in comparison to the stories shared\, if their emergency plans and staff are prepared for a real event.\nApply actions and insights prompting review of their own EPPs.\n\nTracy Pate\,  \nPublic Health Emergency Preparedness Specialist \n  \nStacey Radcliffe\, LNHA \nLarkin Chase\, MD \n 
URL:https://qi.ipro.org/upcoming-events/your-worst-day-when-things-get-real/
LOCATION:Online via Zoom
CATEGORIES:Free event,Hospital event,Nursing Home
END:VEVENT
END:VCALENDAR