BEGIN:VCALENDAR
VERSION:2.0
PRODID:-//CMS QIN-QIO - ECPv6.15.20//NONSGML v1.0//EN
CALSCALE:GREGORIAN
METHOD:PUBLISH
X-ORIGINAL-URL:https://qi.ipro.org
X-WR-CALDESC:Events for CMS QIN-QIO
REFRESH-INTERVAL;VALUE=DURATION:PT1H
X-Robots-Tag:noindex
X-PUBLISHED-TTL:PT1H
BEGIN:VTIMEZONE
TZID:America/New_York
BEGIN:DAYLIGHT
TZOFFSETFROM:-0500
TZOFFSETTO:-0400
TZNAME:EDT
DTSTART:20220313T070000
END:DAYLIGHT
BEGIN:STANDARD
TZOFFSETFROM:-0400
TZOFFSETTO:-0500
TZNAME:EST
DTSTART:20221106T060000
END:STANDARD
BEGIN:DAYLIGHT
TZOFFSETFROM:-0500
TZOFFSETTO:-0400
TZNAME:EDT
DTSTART:20230312T070000
END:DAYLIGHT
BEGIN:STANDARD
TZOFFSETFROM:-0400
TZOFFSETTO:-0500
TZNAME:EST
DTSTART:20231105T060000
END:STANDARD
BEGIN:DAYLIGHT
TZOFFSETFROM:-0500
TZOFFSETTO:-0400
TZNAME:EDT
DTSTART:20240310T070000
END:DAYLIGHT
BEGIN:STANDARD
TZOFFSETFROM:-0400
TZOFFSETTO:-0500
TZNAME:EST
DTSTART:20241103T060000
END:STANDARD
BEGIN:DAYLIGHT
TZOFFSETFROM:-0500
TZOFFSETTO:-0400
TZNAME:EDT
DTSTART:20250309T070000
END:DAYLIGHT
BEGIN:STANDARD
TZOFFSETFROM:-0400
TZOFFSETTO:-0500
TZNAME:EST
DTSTART:20251102T060000
END:STANDARD
END:VTIMEZONE
BEGIN:VEVENT
DTSTART;TZID=America/New_York:20230524T120000
DTEND;TZID=America/New_York:20230524T130000
DTSTAMP:20260423T201647
CREATED:20230518T201756Z
LAST-MODIFIED:20230519T164203Z
UID:35680-1684929600-1684933200@qi.ipro.org
SUMMARY:Pneumonia Learning circle
DESCRIPTION:The Pneumonia Learning Circle offers a forum for education and sharing of resources and best practices with a goal for all participants to benefit from the wisdom and experience of the group.\nJoin other clinicians and subject matter experts in conversations focused on pneumonia stewardship. IPRO QIN-QIO Pneumonia Learning Circle meetings will provide you\nthe opportunity to: \n\nPose questions about pneumonia stewardship to a subject matter expert.\nReview specific cases to identify best practices.\nUse a template action plan to assess respiratory tract infection management and evaluate quality improvement outcome measures.\n\nMEETING 2 – ACTION PLAN\, LOCAL PRACTICES AND CURRENT TOPICS \nWednesday\, May 24\, 2023 • 12 noon – 1 PM ET
URL:https://qi.ipro.org/upcoming-events/pneumonia-learning-circle/
LOCATION:Online via WebEx
CATEGORIES:Nursing Home,Quality Improvement
END:VEVENT
BEGIN:VEVENT
DTSTART;TZID=America/New_York:20230830T120000
DTEND;TZID=America/New_York:20230830T130000
DTSTAMP:20260423T201647
CREATED:20230322T142502Z
LAST-MODIFIED:20230623T172848Z
UID:35265-1693396800-1693400400@qi.ipro.org
SUMMARY:Nursing Home Sepsis Learning Circle
DESCRIPTION:Sepsis impacts individuals across the continuum of care\, with 80%-90% of sepsis-related infections occurring in the home and community. Every two minutes\, someone dies of sepsis\, leading to more than a quarter of a million sepsis deaths each year in patients both young and old. Every 20 seconds a person is hospitalized with sepsis\, and one-in-four are re-hospitalized within 30 days. Sepsis deaths can be substantially preventable\, but the solution requires participation and collaboration across the entire health care system. The Sepsis Learning Circle offers a forum for education and sharing of resources and best practices targeting early identification of sepsis with a goal for all participants to benefit from the wisdom and experience of the group to improve resident outcomes. \n  \nJoin other clinicians and subject matter experts in conversation focused on sepsis identification and treatment as a medical emergency. \nIPRO QIN-QIO Sepsis Learning Circle meetings will provide the opportunity to: \n\nDiscuss the signs and symptoms of sepsis\, the importance of early recognition and established protocols for emergent treatment.\nAsk a subject matter expert about sepsis protocols in the long-term care setting.\nReview the components of a turnkey Sepsis Train-the-Trainer Toolkit with materials and talking points to train all levels of staff within your facility.\n\nSubject Matter Expert: \nSara Butterfield\, RN\, BSN\, CPHQ \nAssistant Vice President\, Healthcare Quality Improvement Program \n 
URL:https://qi.ipro.org/upcoming-events/nursing-home-sepsis-learning-circle-2/
LOCATION:Online via WebEx
CATEGORIES:Free event,Infection Prevention,Nursing Home,Quality Improvement
END:VEVENT
BEGIN:VEVENT
DTSTART;TZID=America/New_York:20240515T160000
DTEND;TZID=America/New_York:20240515T170000
DTSTAMP:20260423T201647
CREATED:20240513T203801Z
LAST-MODIFIED:20240513T203801Z
UID:37687-1715788800-1715792400@qi.ipro.org
SUMMARY:QAPI Office Hours
DESCRIPTION:QAPI Office Hours offer a highly interactive learning experience using Google’s Jamboard\, allowing participants to ask questions and share experiences about QI topics. Give it a try!
URL:https://qi.ipro.org/upcoming-events/qapi-office-hours/
LOCATION:Online via Zoom
CATEGORIES:Free event,Quality Improvement
END:VEVENT
BEGIN:VEVENT
DTSTART;TZID=America/New_York:20240605T140000
DTEND;TZID=America/New_York:20240605T150000
DTSTAMP:20260423T201647
CREATED:20240513T211814Z
LAST-MODIFIED:20240513T211814Z
UID:37702-1717596000-1717599600@qi.ipro.org
SUMMARY:Moving Beyond Your QAPI Committee: A Culture for Safe\, Reliable\, and Quality Care
DESCRIPTION:During this session\, we will asses your culture of safety\, reliable\, and effective care. We will also complete self-assessments and identify strategies to improve your culture of quality.
URL:https://qi.ipro.org/upcoming-events/moving-beyond-your-qapi-committee-a-culture-for-safe-reliable-and-quality-care/
LOCATION:Online via Zoom
CATEGORIES:Free event,Quality Improvement
END:VEVENT
BEGIN:VEVENT
DTSTART;TZID=America/New_York:20240626T160000
DTEND;TZID=America/New_York:20240626T170000
DTSTAMP:20260423T201647
CREATED:20240513T212536Z
LAST-MODIFIED:20240513T212536Z
UID:37709-1719417600-1719421200@qi.ipro.org
SUMMARY:QAPI Office Hours
DESCRIPTION:QAPI Office Hours offer a highly interactive learning experience using Google’s Jamboard\, allowing participants to ask questions and share experiences about QI topics. Give it a try!
URL:https://qi.ipro.org/upcoming-events/qapi-office-hours-2/
LOCATION:Online via Zoom
CATEGORIES:Free event,Quality Improvement
END:VEVENT
BEGIN:VEVENT
DTSTART;TZID=America/New_York:20240703T140000
DTEND;TZID=America/New_York:20240703T150000
DTSTAMP:20260423T201647
CREATED:20240513T212717Z
LAST-MODIFIED:20240513T212717Z
UID:37711-1720015200-1720018800@qi.ipro.org
SUMMARY:QAPI Office Hours: Root Cause Analysis
DESCRIPTION:QAPI Office Hours offer a highly interactive learning experience using Google’s Jamboard\, allowing participants to ask questions and share experiences about QI topics. Give it a try!
URL:https://qi.ipro.org/upcoming-events/qapi-office-hours-root-cause-analysis/
LOCATION:Online via Zoom
CATEGORIES:Free event,Quality Improvement
END:VEVENT
BEGIN:VEVENT
DTSTART;TZID=America/New_York:20240717T160000
DTEND;TZID=America/New_York:20240717T170000
DTSTAMP:20260423T201647
CREATED:20240513T212947Z
LAST-MODIFIED:20240513T212947Z
UID:37713-1721232000-1721235600@qi.ipro.org
SUMMARY:QAPI Office Hours
DESCRIPTION:QAPI Office Hours offer a highly interactive learning experience using Google’s Jamboard\, allowing participants to ask questions and share experiences about QI topics. Give it a try!
URL:https://qi.ipro.org/upcoming-events/qapi-office-hours-3/
LOCATION:Online via Zoom
CATEGORIES:Free event,Quality Improvement
END:VEVENT
BEGIN:VEVENT
DTSTART;TZID=America/New_York:20240807T140000
DTEND;TZID=America/New_York:20240807T150000
DTSTAMP:20260423T201647
CREATED:20240513T213202Z
LAST-MODIFIED:20240513T213219Z
UID:37715-1723039200-1723042800@qi.ipro.org
SUMMARY:QAPI Office Hours: Root Cause Analysis
DESCRIPTION:QAPI Office Hours offer a highly interactive learning experience using Google’s Jamboard\, allowing participants to ask questions and share experiences about QI topics. Give it a try!
URL:https://qi.ipro.org/upcoming-events/qapi-office-hours-root-cause-analysis-2/
LOCATION:Online via Zoom
CATEGORIES:Free event,Quality Improvement
END:VEVENT
BEGIN:VEVENT
DTSTART;TZID=America/New_York:20240821T160000
DTEND;TZID=America/New_York:20240821T170000
DTSTAMP:20260423T201647
CREATED:20240513T213347Z
LAST-MODIFIED:20240513T213347Z
UID:37717-1724256000-1724259600@qi.ipro.org
SUMMARY:QAPI Office Hours
DESCRIPTION:QAPI Office Hours offer a highly interactive learning experience using Google’s Jamboard\, allowing participants to ask questions and share experiences about QI topics. Give it a try!
URL:https://qi.ipro.org/upcoming-events/qapi-office-hours-4/
LOCATION:Online via Zoom
CATEGORIES:Free event,Quality Improvement
END:VEVENT
BEGIN:VEVENT
DTSTART;TZID=America/New_York:20240827T133000
DTEND;TZID=America/New_York:20240827T143000
DTSTAMP:20260423T201647
CREATED:20240820T181212Z
LAST-MODIFIED:20240820T181212Z
UID:38037-1724765400-1724769000@qi.ipro.org
SUMMARY:SNF Skill Squad: After Action Reports/HOTWASH
DESCRIPTION:In this session\, we will discuss all that is needed to complete an After Action Report (AAR) following an event. \nLearning Objectives:\n1. Explain what AARs are and their importance\n2. Describe AAR processes and components\n3. Discuss best practices for conducting an AAR \nSpeaker:\nShane Durkee
URL:https://qi.ipro.org/upcoming-events/snf-skill-squad-after-action-reports-hotwash/
LOCATION:Online via Zoom
CATEGORIES:Free event,Nursing Home,Quality Improvement
END:VEVENT
BEGIN:VEVENT
DTSTART;TZID=America/New_York:20240828T110000
DTEND;TZID=America/New_York:20240828T120000
DTSTAMP:20260423T201647
CREATED:20240820T182223Z
LAST-MODIFIED:20240820T182223Z
UID:38042-1724842800-1724846400@qi.ipro.org
SUMMARY:NHSN Office Hours
DESCRIPTION:In this 30 minute bi-monthly chat\, we will discuss various topics surrounding NHSN. Topics include official NHSN updates\, reminders about upcoming changes\, and answers to our most commonly received provider questions. \nSpeaker:\nJosh Clodius\, LNHA
URL:https://qi.ipro.org/upcoming-events/nhsn-office-hours/
LOCATION:Online via Zoom
CATEGORIES:Free event,Nursing Home,Quality Improvement
END:VEVENT
BEGIN:VEVENT
DTSTART;TZID=America/New_York:20240903T133000
DTEND;TZID=America/New_York:20240903T143000
DTSTAMP:20260423T201647
CREATED:20240820T185234Z
LAST-MODIFIED:20240820T185234Z
UID:38046-1725370200-1725373800@qi.ipro.org
SUMMARY:SNF Skill Squad: Documentation of Immunizations Within MDS
DESCRIPTION:To realize the maximum benefits of immunizations\, a coordinated effort is required to increase vaccination coverage and ensure high-quality data are available to inform clinical and public health\ninterventions. Learn more about this important topic during this session. \nLearning Objectives:\n1. Discover the connection between MDS and immunization data\n2. Review practices that  ensure effectiveness in reporting
URL:https://qi.ipro.org/upcoming-events/snf-skill-squad-documentation-of-immunizations-within-mds/
LOCATION:Online via Zoom
CATEGORIES:Free event,Nursing Home,Quality Improvement
END:VEVENT
BEGIN:VEVENT
DTSTART;TZID=America/New_York:20240904T140000
DTEND;TZID=America/New_York:20240904T150000
DTSTAMP:20260423T201647
CREATED:20240820T185508Z
LAST-MODIFIED:20240820T185508Z
UID:38048-1725458400-1725462000@qi.ipro.org
SUMMARY:QAPI Office Hours
DESCRIPTION:QAPI Office Hours offer a highly interactive learning experience using Google’s Jamboard\, allowing participants to ask questions and share experiences about QI topics. Give it a try! \nLearning Objectives:\n1. Explore various ways to use data in your QAPI process\n2. Discover how to utilize data to tell a story
URL:https://qi.ipro.org/upcoming-events/qapi-office-hours-5/
LOCATION:Online via Zoom
CATEGORIES:Free event,Nursing Home,Quality Improvement
END:VEVENT
BEGIN:VEVENT
DTSTART;TZID=America/New_York:20240910T133000
DTEND;TZID=America/New_York:20240910T143000
DTSTAMP:20260423T201647
CREATED:20240820T185915Z
LAST-MODIFIED:20240820T185915Z
UID:38050-1725975000-1725978600@qi.ipro.org
SUMMARY:SNF Skill Squad: Understanding the “Science” of the STARs
DESCRIPTION:Leaders\, new and old within nursing homes understand the 5 STAR system at a high level\, but often don’t realize or understand the nuances and “science” behind the 5 STAR rating. In this session\, we will dive deeper into the quality measure (QM) rating. \nLearning Objectives:\n1. Understand and explore resources for the 5 STAR system\, specifically the QM rating\n2. Learn about the QMs and how residents trigger them\n3. Learn how to identify areas of improvement \nSpeaker:\nJosh Clodius\, LNHA
URL:https://qi.ipro.org/upcoming-events/snf-skill-squad-understanding-the-science-of-the-stars/
LOCATION:Online via Zoom
CATEGORIES:Free event,Nursing Home,Quality Improvement
END:VEVENT
BEGIN:VEVENT
DTSTART;TZID=America/New_York:20240911T110000
DTEND;TZID=America/New_York:20240911T120000
DTSTAMP:20260423T201647
CREATED:20240820T190150Z
LAST-MODIFIED:20240820T190150Z
UID:38052-1726052400-1726056000@qi.ipro.org
SUMMARY:NHSN Office Hours
DESCRIPTION:In this 30 minute bi-monthly chat\, we will discuss various topics surrounding NHSN. Topics include official NHSN updates\, reminders about upcoming changes\, and answers to our most commonly received provider questions. \nSpeaker:\nJosh Clodius\, LNHA
URL:https://qi.ipro.org/upcoming-events/nhsn-office-hours-2/
LOCATION:Online via Zoom
CATEGORIES:Free event,Hospital event,Quality Improvement
END:VEVENT
BEGIN:VEVENT
DTSTART;TZID=America/New_York:20240917T110000
DTEND;TZID=America/New_York:20240917T120000
DTSTAMP:20260423T201647
CREATED:20240820T192338Z
LAST-MODIFIED:20240820T192338Z
UID:38055-1726570800-1726574400@qi.ipro.org
SUMMARY:IPCO Study Hall
DESCRIPTION:Designed for those who have registered for the AHCA IPCO program\, this session reviews the modules and helps prep staff to acquire their certificate. \nSpeaker:\nDaphne Young
URL:https://qi.ipro.org/upcoming-events/ipco-study-hall/
LOCATION:Online via Zoom
CATEGORIES:Free event,Nursing Home,Quality Improvement
END:VEVENT
BEGIN:VEVENT
DTSTART;TZID=America/New_York:20240917T133000
DTEND;TZID=America/New_York:20240917T143000
DTSTAMP:20260423T201647
CREATED:20240820T193336Z
LAST-MODIFIED:20240820T193336Z
UID:38057-1726579800-1726583400@qi.ipro.org
SUMMARY:SNF Skill Squad: Using Your Standard Analytic Report (SAR) to Prioritize Quality Improvement Efforts
DESCRIPTION:This session will review the data available in the quarterly SAR reports. \nLearning Objectives:\n1. Describe the quality measure data included in the SAR\n2. Discuss how to compare facility performance to state and national averages\n3. Explain how to utilize the data to identify quality measures for improving your Five-Star Rating \nSpeakers:\nJacky Haskell\, MS\nEmily Patry\, MS
URL:https://qi.ipro.org/upcoming-events/snf-skill-squad-using-your-standard-analytic-report-sar-to-prioritize-quality-improvement-efforts/
LOCATION:Online via Zoom
CATEGORIES:Free event,Nursing Home,Quality Improvement
END:VEVENT
BEGIN:VEVENT
DTSTART;TZID=America/New_York:20240918T160000
DTEND;TZID=America/New_York:20240918T170000
DTSTAMP:20260423T201647
CREATED:20240823T142613Z
LAST-MODIFIED:20240823T142613Z
UID:38106-1726675200-1726678800@qi.ipro.org
SUMMARY:QAPI Office Hours
DESCRIPTION:QAPI Office Hours offer a highly interactive learning experience using Google’s Jamboard\, allowing participants to ask questions and share experiences about QI topics. Give it a try! \nLearning Objectives:\n1. Explore various ways to use data in your QAPI process\n2. Discover how to utilize data to tell a story
URL:https://qi.ipro.org/upcoming-events/qapi-office-hours-6/
LOCATION:Online via Zoom
CATEGORIES:Free event,Nursing Home,Quality Improvement
END:VEVENT
BEGIN:VEVENT
DTSTART;TZID=America/New_York:20240924T133000
DTEND;TZID=America/New_York:20240924T143000
DTSTAMP:20260423T201647
CREATED:20240820T193711Z
LAST-MODIFIED:20240820T193752Z
UID:38059-1727184600-1727188200@qi.ipro.org
SUMMARY:SNF Skill Squad: Documentation and Care Planning
DESCRIPTION:In this session\, we will review documentation-related challenges and essential care planning principles. \nSpeaker:\nAmy Stackman
URL:https://qi.ipro.org/upcoming-events/snf-skill-squad-documentation-and-care-planning/
LOCATION:Online via Zoom
CATEGORIES:Free event,Nursing Home,Quality Improvement
END:VEVENT
BEGIN:VEVENT
DTSTART;TZID=America/New_York:20240925T110000
DTEND;TZID=America/New_York:20240925T120000
DTSTAMP:20260423T201647
CREATED:20240820T194043Z
LAST-MODIFIED:20240820T194043Z
UID:38063-1727262000-1727265600@qi.ipro.org
SUMMARY:NHSN Office Hours
DESCRIPTION:In this 30 minute bi-monthly chat\, we will discuss various topics surrounding NHSN. Topics include official NHSN updates\, reminders about upcoming changes\, and answers to our most commonly received provider questions. \nSpeaker:\nJosh Clodius\, LNHA
URL:https://qi.ipro.org/upcoming-events/nhsn-office-hours-3/
LOCATION:Online via Zoom
CATEGORIES:Free event,Nursing Home,Quality Improvement
END:VEVENT
BEGIN:VEVENT
DTSTART;TZID=America/New_York:20241001T133000
DTEND;TZID=America/New_York:20241001T143000
DTSTAMP:20260423T201647
CREATED:20240820T195802Z
LAST-MODIFIED:20240820T195802Z
UID:38065-1727789400-1727793000@qi.ipro.org
SUMMARY:SNF Skill Squad: Nursing Process and Assessment Skills
DESCRIPTION:In this session\, we will go over the nursing process (assessment\, diagnosis\, planning\, implementation\, and evaluation). \nLearning Objectives:\n1. Discuss the basics of physical and mental assessments\n2. Talk about how to identify a nursing diagnosis\n3. Explain how to implement your plan of action\n4. Describe how to create an effective evaluation \nSpeaker:\nDaphne Young
URL:https://qi.ipro.org/upcoming-events/snf-skill-squad-nursing-process-and-assessment-skills/
LOCATION:Online via Zoom
CATEGORIES:Free event,Nursing Home,Quality Improvement
END:VEVENT
BEGIN:VEVENT
DTSTART;TZID=America/New_York:20241008T133000
DTEND;TZID=America/New_York:20241008T143000
DTSTAMP:20260423T201647
CREATED:20240820T200131Z
LAST-MODIFIED:20240820T200212Z
UID:38067-1728394200-1728397800@qi.ipro.org
SUMMARY:SNF Skill Squad: Falls and Risk Reduction Pearls
DESCRIPTION:In this session\, we will describe quality measures related to falls\, discuss the role of the interdisciplinary team in communication about falls\, and identify high-risk medications to both avoid and consider for a gradual dose reduction (GDR). \nSpeakers:\nDarlene Shoemaker\, MS\, RN\, BC\nRobert Accetta\, RPh\, BCGP\, FASCP
URL:https://qi.ipro.org/upcoming-events/snf-skill-squad-falls-and-risk-reduction-pearls/
LOCATION:Online via Zoom
CATEGORIES:Free event,Nursing Home,Quality Improvement
END:VEVENT
BEGIN:VEVENT
DTSTART;TZID=America/New_York:20241009T110000
DTEND;TZID=America/New_York:20241009T120000
DTSTAMP:20260423T201647
CREATED:20240820T200756Z
LAST-MODIFIED:20240820T200756Z
UID:38069-1728471600-1728475200@qi.ipro.org
SUMMARY:NHSN Office Hours
DESCRIPTION:In this 30 minute bi-monthly chat\, we will discuss various topics surrounding NHSN. Topics include official NHSN updates\, reminders about upcoming changes\, and answers to our most commonly received provider questions. \nSpeaker:\nJosh Clodius\, LNHA
URL:https://qi.ipro.org/upcoming-events/nhsn-office-hours-4/
LOCATION:Online via Zoom
CATEGORIES:Free event,Nursing Home,Quality Improvement
END:VEVENT
BEGIN:VEVENT
DTSTART;TZID=America/New_York:20241015T133000
DTEND;TZID=America/New_York:20241015T143000
DTSTAMP:20260423T201647
CREATED:20240820T201107Z
LAST-MODIFIED:20240820T201107Z
UID:38071-1728999000-1729002600@qi.ipro.org
SUMMARY:SNF Skill Squad: Facility Assessment Tools for Success
DESCRIPTION:In this session\, we will discuss the value of the facility assessment. \nSpeakers:\nShirlynn Shafer\nTammy Henning
URL:https://qi.ipro.org/upcoming-events/snf-skill-squad-facility-assessment-tools-for-success/
LOCATION:Online via Zoom
CATEGORIES:Free event,Nursing Home,Quality Improvement
END:VEVENT
BEGIN:VEVENT
DTSTART;TZID=America/New_York:20241022T110000
DTEND;TZID=America/New_York:20241022T120000
DTSTAMP:20260423T201647
CREATED:20240820T201513Z
LAST-MODIFIED:20240820T201513Z
UID:38073-1729594800-1729598400@qi.ipro.org
SUMMARY:IPCO Study Hall
DESCRIPTION:Designed for those who have registered for the AHCA IPCO program\, this session reviews the modules and helps prep staff to acquire their certificate. \nSpeaker:\nDaphne Young
URL:https://qi.ipro.org/upcoming-events/ipco-study-hall-2/
LOCATION:Online via Zoom
CATEGORIES:Free event,Nursing Home,Quality Improvement
END:VEVENT
BEGIN:VEVENT
DTSTART;TZID=America/New_York:20241022T133000
DTEND;TZID=America/New_York:20241022T143000
DTSTAMP:20260423T201647
CREATED:20240820T201746Z
LAST-MODIFIED:20240820T201746Z
UID:38075-1729603800-1729607400@qi.ipro.org
SUMMARY:SNF Skill Squad
DESCRIPTION:In this session\, we will address why an accurate renal function assessment is important for resident health/safety \nLearning Objectives:\n1. Review the available measures of renal function for nursing home residents\n2. Apply the use of the renal function assessment to monitor dosing of medications \nSpeaker:\nTerry Lubowski\, PharmD\, BS\, CPHQ
URL:https://qi.ipro.org/upcoming-events/snf-skill-squad/
LOCATION:Online via Zoom
CATEGORIES:Free event,Nursing Home,Quality Improvement
END:VEVENT
BEGIN:VEVENT
DTSTART;TZID=America/New_York:20241023T110000
DTEND;TZID=America/New_York:20241023T120000
DTSTAMP:20260423T201647
CREATED:20240820T203421Z
LAST-MODIFIED:20240820T203421Z
UID:38077-1729681200-1729684800@qi.ipro.org
SUMMARY:NHSN Office Hours
DESCRIPTION:In this 30 minute bi-monthly chat\, we will discuss various topics surrounding NHSN. Topics include official NHSN updates\, reminders about upcoming changes\, and answers to our most commonly received provider questions. \nSpeaker:\nJosh Clodius\, LNHA
URL:https://qi.ipro.org/upcoming-events/nhsn-office-hours-6/
LOCATION:Online via Zoom
CATEGORIES:Free event,Nursing Home,Quality Improvement
END:VEVENT
BEGIN:VEVENT
DTSTART;TZID=America/New_York:20241029T133000
DTEND;TZID=America/New_York:20241029T143000
DTSTAMP:20260423T201647
CREATED:20240820T205004Z
LAST-MODIFIED:20240820T205004Z
UID:38079-1730208600-1730212200@qi.ipro.org
SUMMARY:SNF Skill Squad: Infection Prevention/Personal Protective Equipment Basics
DESCRIPTION:This session will bring to life key elements of infection prevention (IP) in our organization. \nLearning Objectives:\n1. Review key elements of IP\n2. Discover ways to help staff become active participants in IP \nSpeaker:\nMary Ellen Casey\, MSN\, RN\, MEd\, CIC
URL:https://qi.ipro.org/upcoming-events/snf-skill-squad-infection-prevention-personal-protective-equipment-basics/
LOCATION:Online via Zoom
CATEGORIES:Free event,Nursing Home,Quality Improvement
END:VEVENT
BEGIN:VEVENT
DTSTART;TZID=America/New_York:20241105T133000
DTEND;TZID=America/New_York:20241105T143000
DTSTAMP:20260423T201647
CREATED:20240820T210507Z
LAST-MODIFIED:20240820T210507Z
UID:38081-1730813400-1730817000@qi.ipro.org
SUMMARY:SNF Skill Squad:  Dementia Care Change Package
DESCRIPTION:This session will review key elements of the Dementia Care Change Package. \nLearning Objectives:\n1. Discover the eight steps to create positive change in dementia care\n2. Review tools and resources you can access \nSpeaker: \nMargie McLaughlin
URL:https://qi.ipro.org/upcoming-events/snf-skill-squad-dementia-care-change-package/
LOCATION:Online via Zoom
CATEGORIES:Free event,Nursing Home,Quality Improvement
END:VEVENT
BEGIN:VEVENT
DTSTART;TZID=America/New_York:20241106T110000
DTEND;TZID=America/New_York:20241106T120000
DTSTAMP:20260423T201647
CREATED:20240820T211807Z
LAST-MODIFIED:20240820T211833Z
UID:38083-1730890800-1730894400@qi.ipro.org
SUMMARY:NHSN Office Hours
DESCRIPTION:In this 30 minute bi-monthly chat\, we will discuss various topics surrounding NHSN. Topics include official NHSN updates\, reminders about upcoming changes\, and answers to our most commonly received provider questions. \nSpeaker:\nJosh Clodius\, LNHA
URL:https://qi.ipro.org/upcoming-events/nhsn-office-hours-7/
LOCATION:Online via Zoom
CATEGORIES:Free event,Nursing Home,Quality Improvement
END:VEVENT
END:VCALENDAR