BEGIN:VCALENDAR
VERSION:2.0
PRODID:-//CMS QIN-QIO - ECPv6.15.20//NONSGML v1.0//EN
CALSCALE:GREGORIAN
METHOD:PUBLISH
X-WR-CALNAME:CMS QIN-QIO
X-ORIGINAL-URL:https://qi.ipro.org
X-WR-CALDESC:Events for CMS QIN-QIO
REFRESH-INTERVAL;VALUE=DURATION:PT1H
X-Robots-Tag:noindex
X-PUBLISHED-TTL:PT1H
BEGIN:VTIMEZONE
TZID:America/New_York
BEGIN:DAYLIGHT
TZOFFSETFROM:-0500
TZOFFSETTO:-0400
TZNAME:EDT
DTSTART:20250309T070000
END:DAYLIGHT
BEGIN:STANDARD
TZOFFSETFROM:-0400
TZOFFSETTO:-0500
TZNAME:EST
DTSTART:20251102T060000
END:STANDARD
BEGIN:DAYLIGHT
TZOFFSETFROM:-0500
TZOFFSETTO:-0400
TZNAME:EDT
DTSTART:20260308T070000
END:DAYLIGHT
BEGIN:STANDARD
TZOFFSETFROM:-0400
TZOFFSETTO:-0500
TZNAME:EST
DTSTART:20261101T060000
END:STANDARD
BEGIN:DAYLIGHT
TZOFFSETFROM:-0500
TZOFFSETTO:-0400
TZNAME:EDT
DTSTART:20270314T070000
END:DAYLIGHT
BEGIN:STANDARD
TZOFFSETFROM:-0400
TZOFFSETTO:-0500
TZNAME:EST
DTSTART:20271107T060000
END:STANDARD
END:VTIMEZONE
BEGIN:VEVENT
DTSTART;TZID=America/New_York:20260515T113000
DTEND;TZID=America/New_York:20260515T120000
DTSTAMP:20260423T163908
CREATED:20260421T170221Z
LAST-MODIFIED:20260421T170221Z
UID:39644-1778844600-1778846400@qi.ipro.org
SUMMARY:Advancing Outpatient Care Through Shared Learning
DESCRIPTION:Join the QIN-QIO peer-to-peer call for outpatient clinical practices. These short sessions offer a chance to exchange practical strategies\, discuss challenges\, and learn from peers working in outpatient care. \nTopics may include: chronic disease management\, behavioral health integration\, workforce development\, care coordination\, and other issues that matter most to outpatient practices. \nFridays | 11:30 a.m.–12:00 p.m.May sessions now open for registration \nRegister for the May 15 session.
URL:https://qi.ipro.org/upcoming-events/advancing-outpatient-care-through-shared-learning-5/
LOCATION:Online via Teams Events
CATEGORIES:Free event,Outpatient Providers
ATTACH;FMTTYPE=image/jpeg:https://qi.ipro.org/wp-content/uploads/event-image-169-15.jpg
END:VEVENT
END:VCALENDAR