BEGIN:VCALENDAR
VERSION:2.0
PRODID:-//CMS QIN-QIO - ECPv6.15.20//NONSGML v1.0//EN
CALSCALE:GREGORIAN
METHOD:PUBLISH
X-WR-CALNAME:CMS QIN-QIO
X-ORIGINAL-URL:https://qi.ipro.org
X-WR-CALDESC:Events for CMS QIN-QIO
REFRESH-INTERVAL;VALUE=DURATION:PT1H
X-Robots-Tag:noindex
X-PUBLISHED-TTL:PT1H
BEGIN:VTIMEZONE
TZID:America/New_York
BEGIN:DAYLIGHT
TZOFFSETFROM:-0500
TZOFFSETTO:-0400
TZNAME:EDT
DTSTART:20230312T070000
END:DAYLIGHT
BEGIN:STANDARD
TZOFFSETFROM:-0400
TZOFFSETTO:-0500
TZNAME:EST
DTSTART:20231105T060000
END:STANDARD
BEGIN:DAYLIGHT
TZOFFSETFROM:-0500
TZOFFSETTO:-0400
TZNAME:EDT
DTSTART:20240310T070000
END:DAYLIGHT
BEGIN:STANDARD
TZOFFSETFROM:-0400
TZOFFSETTO:-0500
TZNAME:EST
DTSTART:20241103T060000
END:STANDARD
BEGIN:DAYLIGHT
TZOFFSETFROM:-0500
TZOFFSETTO:-0400
TZNAME:EDT
DTSTART:20250309T070000
END:DAYLIGHT
BEGIN:STANDARD
TZOFFSETFROM:-0400
TZOFFSETTO:-0500
TZNAME:EST
DTSTART:20251102T060000
END:STANDARD
BEGIN:DAYLIGHT
TZOFFSETFROM:-0500
TZOFFSETTO:-0400
TZNAME:EDT
DTSTART:20260308T070000
END:DAYLIGHT
BEGIN:STANDARD
TZOFFSETFROM:-0400
TZOFFSETTO:-0500
TZNAME:EST
DTSTART:20261101T060000
END:STANDARD
BEGIN:DAYLIGHT
TZOFFSETFROM:-0500
TZOFFSETTO:-0400
TZNAME:EDT
DTSTART:20270314T070000
END:DAYLIGHT
BEGIN:STANDARD
TZOFFSETFROM:-0400
TZOFFSETTO:-0500
TZNAME:EST
DTSTART:20271107T060000
END:STANDARD
END:VTIMEZONE
BEGIN:VEVENT
DTSTART;TZID=America/New_York:20241017T110000
DTEND;TZID=America/New_York:20241017T113000
DTSTAMP:20260423T053206
CREATED:20240802T200439Z
LAST-MODIFIED:20240802T200439Z
UID:37963-1729162800-1729164600@qi.ipro.org
SUMMARY:Infection Prevention for Infection Preventionist by Infection Preventionists (IP3)
DESCRIPTION:Join our IP3 group for a lively discussion with other infection preventionists to share new infection prevention ideas and discover new strategies. This group is hosted by Melanie Ronda\, MSN\, RN and Mary Ellen Casey\, MSN\, RN\, M.Ed.\, CIC every Thursday at 11 am ET.
URL:https://qi.ipro.org/upcoming-events/infection-prevention-for-infection-preventionist-by-infection-preventionists-ip3-14/
LOCATION:Online via Zoom
CATEGORIES:Free event,Infection Prevention
END:VEVENT
BEGIN:VEVENT
DTSTART;TZID=America/New_York:20241024T110000
DTEND;TZID=America/New_York:20241024T113000
DTSTAMP:20260423T053206
CREATED:20240802T200532Z
LAST-MODIFIED:20240802T200532Z
UID:37965-1729767600-1729769400@qi.ipro.org
SUMMARY:Infection Prevention for Infection Preventionist by Infection Preventionists (IP3)
DESCRIPTION:Join our IP3 group for a lively discussion with other infection preventionists to share new infection prevention ideas and discover new strategies. This group is hosted by Melanie Ronda\, MSN\, RN and Mary Ellen Casey\, MSN\, RN\, M.Ed.\, CIC every Thursday at 11 am ET.
URL:https://qi.ipro.org/upcoming-events/infection-prevention-for-infection-preventionist-by-infection-preventionists-ip3-15/
LOCATION:Online via Zoom
CATEGORIES:Free event,Infection Prevention
END:VEVENT
BEGIN:VEVENT
DTSTART;TZID=America/New_York:20241031T110000
DTEND;TZID=America/New_York:20241031T113000
DTSTAMP:20260423T053206
CREATED:20240802T202708Z
LAST-MODIFIED:20240802T202708Z
UID:37967-1730372400-1730374200@qi.ipro.org
SUMMARY:Infection Prevention for Infection Preventionist by Infection Preventionists (IP3)
DESCRIPTION:Join our IP3 group for a lively discussion with other infection preventionists to share new infection prevention ideas and discover new strategies. This group is hosted by Melanie Ronda\, MSN\, RN and Mary Ellen Casey\, MSN\, RN\, M.Ed.\, CIC every Thursday at 11 am ET.
URL:https://qi.ipro.org/upcoming-events/infection-prevention-for-infection-preventionist-by-infection-preventionists-ip3-16/
LOCATION:Online via Zoom
CATEGORIES:Free event,Infection Prevention
END:VEVENT
BEGIN:VEVENT
DTSTART;TZID=America/New_York:20251120T113000
DTEND;TZID=America/New_York:20251120T123000
DTSTAMP:20260423T053206
CREATED:20251114T173219Z
LAST-MODIFIED:20251114T173253Z
UID:38850-1763638200-1763641800@qi.ipro.org
SUMMARY:IP3 (Infection Prevention for Infection Preventionists by an Infection Preventionist) Office Hours
DESCRIPTION:Join us as we bring back our weekly IP3 Office Hours\, where we gather with colleagues to discuss our infection prevention challenges\, solutions\, strategies\, and success stories. IP3 Office Hours repeat every Thursday from 11:30 am – 12:15 pm ET.
URL:https://qi.ipro.org/upcoming-events/ip3-infection-prevention-for-infection-preventionists-by-an-infection-preventionist-office-hours/
LOCATION:Online via WebEx
CATEGORIES:Infection Prevention
END:VEVENT
BEGIN:VEVENT
DTSTART;TZID=America/New_York:20251204T113000
DTEND;TZID=America/New_York:20251204T123000
DTSTAMP:20260423T053206
CREATED:20251114T173710Z
LAST-MODIFIED:20251114T173710Z
UID:38853-1764847800-1764851400@qi.ipro.org
SUMMARY:IP3 (Infection Prevention for Infection Preventionists by an Infection Preventionist) Office Hours
DESCRIPTION:Join us as we bring back our weekly IP3 Office Hours\, where we gather with colleagues to discuss our infection prevention challenges\, solutions\, strategies\, and success stories. IP3 Office Hours repeat every Thursday from 11:30 am – 12:15 pm ET.
URL:https://qi.ipro.org/upcoming-events/ip3-infection-prevention-for-infection-preventionists-by-an-infection-preventionist-office-hours-2/
LOCATION:Online via WebEx
CATEGORIES:Infection Prevention
END:VEVENT
BEGIN:VEVENT
DTSTART;TZID=America/New_York:20251211T113000
DTEND;TZID=America/New_York:20251211T123000
DTSTAMP:20260423T053206
CREATED:20251114T180544Z
LAST-MODIFIED:20251114T180622Z
UID:38855-1765452600-1765456200@qi.ipro.org
SUMMARY:IP3 (Infection Prevention for Infection Preventionists by an Infection Preventionist) Office Hours
DESCRIPTION:Join us as we bring back our weekly IP3 Office Hours\, where we gather with colleagues to discuss our infection prevention challenges\, solutions\, strategies\, and success stories. IP3 Office Hours repeat every Thursday from 11:30 am – 12:15 pm ET.
URL:https://qi.ipro.org/upcoming-events/ip3-infection-prevention-for-infection-preventionists-by-an-infection-preventionist-office-hours-3/
LOCATION:Online via WebEx
CATEGORIES:Infection Prevention
END:VEVENT
BEGIN:VEVENT
DTSTART;TZID=America/New_York:20251218T113000
DTEND;TZID=America/New_York:20251218T123000
DTSTAMP:20260423T053206
CREATED:20251114T180658Z
LAST-MODIFIED:20251114T180741Z
UID:38857-1766057400-1766061000@qi.ipro.org
SUMMARY:IP3 (Infection Prevention for Infection Preventionists by an Infection Preventionist) Office Hours
DESCRIPTION:Join us as we bring back our weekly IP3 Office Hours\, where we gather with colleagues to discuss our infection prevention challenges\, solutions\, strategies\, and success stories. IP3 Office Hours repeat every Thursday from 11:30 am – 12:15 pm ET.
URL:https://qi.ipro.org/upcoming-events/ip3-infection-prevention-for-infection-preventionists-by-an-infection-preventionist-office-hours-4/
LOCATION:Online via WebEx
CATEGORIES:Infection Prevention
END:VEVENT
BEGIN:VEVENT
DTSTART;TZID=America/New_York:20260115T113000
DTEND;TZID=America/New_York:20260115T123000
DTSTAMP:20260423T053206
CREATED:20260114T223921Z
LAST-MODIFIED:20260114T224214Z
UID:38944-1768476600-1768480200@qi.ipro.org
SUMMARY:IP3 (Infection Prevention for Infection Preventionists by an Infection Preventionist) Office Hours
DESCRIPTION:Join us as we bring back our weekly IP3 Office Hours\, where we gather with colleagues to discuss our infection prevention challenges\, solutions\, strategies\, and success stories. IP3 Office Hours repeat every Thursday from 11:30 am – 12:15 pm ET.
URL:https://qi.ipro.org/upcoming-events/ip3-infection-prevention-for-infection-preventionists-by-an-infection-preventionist-office-hours-5/
LOCATION:Online via WebEx
CATEGORIES:Infection Prevention,Nursing Home
END:VEVENT
BEGIN:VEVENT
DTSTART;TZID=America/New_York:20260122T113000
DTEND;TZID=America/New_York:20260122T123000
DTSTAMP:20260423T053206
CREATED:20260114T224335Z
LAST-MODIFIED:20260114T224335Z
UID:38946-1769081400-1769085000@qi.ipro.org
SUMMARY:IP3 (Infection Prevention for Infection Preventionists by an Infection Preventionist) Office Hours
DESCRIPTION:Join us as we bring back our weekly IP3 Office Hours\, where we gather with colleagues to discuss our infection prevention challenges\, solutions\, strategies\, and success stories. IP3 Office Hours repeat every Thursday from 11:30 am – 12:15 pm ET.
URL:https://qi.ipro.org/upcoming-events/ip3-infection-prevention-for-infection-preventionists-by-an-infection-preventionist-office-hours-6/
LOCATION:Online via WebEx
CATEGORIES:Infection Prevention,Nursing Home
END:VEVENT
BEGIN:VEVENT
DTSTART;TZID=America/New_York:20260129T113000
DTEND;TZID=America/New_York:20260129T123000
DTSTAMP:20260423T053206
CREATED:20260114T224411Z
LAST-MODIFIED:20260114T224411Z
UID:38948-1769686200-1769689800@qi.ipro.org
SUMMARY:IP3 (Infection Prevention for Infection Preventionists by an Infection Preventionist) Office Hours
DESCRIPTION:Join us as we bring back our weekly IP3 Office Hours\, where we gather with colleagues to discuss our infection prevention challenges\, solutions\, strategies\, and success stories. IP3 Office Hours repeat every Thursday from 11:30 am – 12:15 pm ET.
URL:https://qi.ipro.org/upcoming-events/ip3-infection-prevention-for-infection-preventionists-by-an-infection-preventionist-office-hours-7/
LOCATION:Online via WebEx
CATEGORIES:Infection Prevention,Nursing Home
END:VEVENT
BEGIN:VEVENT
DTSTART;TZID=America/New_York:20260305T113000
DTEND;TZID=America/New_York:20260305T121500
DTSTAMP:20260423T053206
CREATED:20260303T012937Z
LAST-MODIFIED:20260303T012937Z
UID:39034-1772710200-1772712900@qi.ipro.org
SUMMARY:IP3 (Infection Prevention for Infection Preventionists by an Infection Preventionist) Office Hours
DESCRIPTION:Join us as we bring back our weekly IP3 Office Hours\, where we gather with colleagues to discuss our infection prevention challenges\, solutions\, strategies\, and success stories. IP3 Office Hours repeat every Thursday from 11:30 am – 12:15 pm ET. \n  \nREGISTER HERE
URL:https://qi.ipro.org/upcoming-events/ip3-infection-prevention-for-infection-preventionists-by-an-infection-preventionist-office-hours-8/
LOCATION:Online via WebEx
CATEGORIES:Infection Prevention
ATTACH;FMTTYPE=image/jpeg:https://qi.ipro.org/wp-content/uploads/event-image-169.jpg
END:VEVENT
BEGIN:VEVENT
DTSTART;TZID=America/New_York:20260312T113000
DTEND;TZID=America/New_York:20260312T121500
DTSTAMP:20260423T053206
CREATED:20260303T013155Z
LAST-MODIFIED:20260303T014028Z
UID:39037-1773315000-1773317700@qi.ipro.org
SUMMARY:IP3 (Infection Prevention for Infection Preventionists by an Infection Preventionist) Office Hours
DESCRIPTION:Join us as we bring back our weekly IP3 Office Hours\, where we gather with colleagues to discuss our infection prevention challenges\, solutions\, strategies\, and success stories. IP3 Office Hours repeat every Thursday from 11:30 am – 12:15 pm ET. \n  \nREGISTER HERE
URL:https://qi.ipro.org/upcoming-events/ip3-infection-prevention-for-infection-preventionists-by-an-infection-preventionist-office-hours-9/
LOCATION:Online via WebEx
CATEGORIES:Infection Prevention
ATTACH;FMTTYPE=image/jpeg:https://qi.ipro.org/wp-content/uploads/event-image-169.jpg
END:VEVENT
BEGIN:VEVENT
DTSTART;TZID=America/New_York:20260319T113000
DTEND;TZID=America/New_York:20260319T121500
DTSTAMP:20260423T053206
CREATED:20260303T014100Z
LAST-MODIFIED:20260303T014100Z
UID:39039-1773919800-1773922500@qi.ipro.org
SUMMARY:IP3 (Infection Prevention for Infection Preventionists by an Infection Preventionist) Office Hours
DESCRIPTION:Join us as we bring back our weekly IP3 Office Hours\, where we gather with colleagues to discuss our infection prevention challenges\, solutions\, strategies\, and success stories. IP3 Office Hours repeat every Thursday from 11:30 am – 12:15 pm ET. \n  \nREGISTER HERE
URL:https://qi.ipro.org/upcoming-events/ip3-infection-prevention-for-infection-preventionists-by-an-infection-preventionist-office-hours-10/
LOCATION:Online via WebEx
CATEGORIES:Infection Prevention
ATTACH;FMTTYPE=image/jpeg:https://qi.ipro.org/wp-content/uploads/event-image-169.jpg
END:VEVENT
BEGIN:VEVENT
DTSTART;TZID=America/New_York:20260326T113000
DTEND;TZID=America/New_York:20260326T121500
DTSTAMP:20260423T053206
CREATED:20260303T014136Z
LAST-MODIFIED:20260303T014136Z
UID:39041-1774524600-1774527300@qi.ipro.org
SUMMARY:IP3 (Infection Prevention for Infection Preventionists by an Infection Preventionist) Office Hours
DESCRIPTION:Join us as we bring back our weekly IP3 Office Hours\, where we gather with colleagues to discuss our infection prevention challenges\, solutions\, strategies\, and success stories. IP3 Office Hours repeat every Thursday from 11:30 am – 12:15 pm ET. \n  \nREGISTER HERE
URL:https://qi.ipro.org/upcoming-events/ip3-infection-prevention-for-infection-preventionists-by-an-infection-preventionist-office-hours-11/
LOCATION:Online via WebEx
CATEGORIES:Infection Prevention
ATTACH;FMTTYPE=image/jpeg:https://qi.ipro.org/wp-content/uploads/event-image-169.jpg
END:VEVENT
BEGIN:VEVENT
DTSTART;TZID=America/New_York:20260409T113000
DTEND;TZID=America/New_York:20260409T120000
DTSTAMP:20260423T053206
CREATED:20260406T160158Z
LAST-MODIFIED:20260406T160256Z
UID:39376-1775734200-1775736000@qi.ipro.org
SUMMARY:IP3 Office Hours
DESCRIPTION:Join us each Thursday for IP3 Peer-to-Peer Sharing Call Office Hours\, a friendly\, collaborative forum where infection prevention professionals can talk through challenges\, share practical solutions\, and learn from colleagues’ experiences. Each week offers a chance to exchange perspectives\, explore questions\, and connect with peers in a supportive setting.\n\n\n\n Every Thursday\n\n 11:30 a.m. \nREGISTER
URL:https://qi.ipro.org/upcoming-events/ip3-office-hours-5/
LOCATION:Online via WebEx
CATEGORIES:Free event,Infection Prevention
ATTACH;FMTTYPE=image/jpeg:https://qi.ipro.org/wp-content/uploads/event-image-169-11.jpg
END:VEVENT
BEGIN:VEVENT
DTSTART;TZID=America/New_York:20260416T113000
DTEND;TZID=America/New_York:20260416T120000
DTSTAMP:20260423T053206
CREATED:20260406T160910Z
LAST-MODIFIED:20260406T160910Z
UID:39379-1776339000-1776340800@qi.ipro.org
SUMMARY:IP3 Office Hours
DESCRIPTION:Join us each Thursday for IP3 Peer-to-Peer Sharing Call Office Hours\, a friendly\, collaborative forum where infection prevention professionals can talk through challenges\, share practical solutions\, and learn from colleagues’ experiences. Each week offers a chance to exchange perspectives\, explore questions\, and connect with peers in a supportive setting.\n\n\n\n Every Thursday\n\n 11:30 a.m. \nREGISTER
URL:https://qi.ipro.org/upcoming-events/ip3-office-hours-6/
LOCATION:Online via WebEx
CATEGORIES:Free event,Infection Prevention
ATTACH;FMTTYPE=image/jpeg:https://qi.ipro.org/wp-content/uploads/event-image-169-11.jpg
END:VEVENT
BEGIN:VEVENT
DTSTART;TZID=America/New_York:20260423T113000
DTEND;TZID=America/New_York:20260423T120000
DTSTAMP:20260423T053206
CREATED:20260406T160945Z
LAST-MODIFIED:20260406T160945Z
UID:39380-1776943800-1776945600@qi.ipro.org
SUMMARY:IP3 Office Hours
DESCRIPTION:Join us each Thursday for IP3 Peer-to-Peer Sharing Call Office Hours\, a friendly\, collaborative forum where infection prevention professionals can talk through challenges\, share practical solutions\, and learn from colleagues’ experiences. Each week offers a chance to exchange perspectives\, explore questions\, and connect with peers in a supportive setting.\n\n\n\n Every Thursday\n\n 11:30 a.m. \nREGISTER
URL:https://qi.ipro.org/upcoming-events/ip3-office-hours-7/
LOCATION:Online via WebEx
CATEGORIES:Free event,Infection Prevention
ATTACH;FMTTYPE=image/jpeg:https://qi.ipro.org/wp-content/uploads/event-image-169-11.jpg
END:VEVENT
BEGIN:VEVENT
DTSTART;TZID=America/New_York:20260430T113000
DTEND;TZID=America/New_York:20260430T120000
DTSTAMP:20260423T053206
CREATED:20260406T161009Z
LAST-MODIFIED:20260406T161009Z
UID:39381-1777548600-1777550400@qi.ipro.org
SUMMARY:IP3 Office Hours
DESCRIPTION:Join us each Thursday for IP3 Peer-to-Peer Sharing Call Office Hours\, a friendly\, collaborative forum where infection prevention professionals can talk through challenges\, share practical solutions\, and learn from colleagues’ experiences. Each week offers a chance to exchange perspectives\, explore questions\, and connect with peers in a supportive setting.\n\n\n\n Every Thursday\n\n 11:30 a.m. \nREGISTER
URL:https://qi.ipro.org/upcoming-events/ip3-office-hours-8/
LOCATION:Online via WebEx
CATEGORIES:Free event,Infection Prevention
ATTACH;FMTTYPE=image/jpeg:https://qi.ipro.org/wp-content/uploads/event-image-169-11.jpg
END:VEVENT
BEGIN:VEVENT
DTSTART;TZID=America/New_York:20260507T113000
DTEND;TZID=America/New_York:20260507T120000
DTSTAMP:20260423T053206
CREATED:20260406T161039Z
LAST-MODIFIED:20260406T161039Z
UID:39382-1778153400-1778155200@qi.ipro.org
SUMMARY:IP3 Office Hours
DESCRIPTION:Join us each Thursday for IP3 Peer-to-Peer Sharing Call Office Hours\, a friendly\, collaborative forum where infection prevention professionals can talk through challenges\, share practical solutions\, and learn from colleagues’ experiences. Each week offers a chance to exchange perspectives\, explore questions\, and connect with peers in a supportive setting.\n\n\n\n Every Thursday\n\n 11:30 a.m. \nREGISTER
URL:https://qi.ipro.org/upcoming-events/ip3-office-hours-9/
LOCATION:Online via WebEx
CATEGORIES:Free event,Infection Prevention
ATTACH;FMTTYPE=image/jpeg:https://qi.ipro.org/wp-content/uploads/event-image-169-11.jpg
END:VEVENT
BEGIN:VEVENT
DTSTART;TZID=America/New_York:20260514T113000
DTEND;TZID=America/New_York:20260514T120000
DTSTAMP:20260423T053206
CREATED:20260406T161135Z
LAST-MODIFIED:20260406T161135Z
UID:39383-1778758200-1778760000@qi.ipro.org
SUMMARY:IP3 Office Hours
DESCRIPTION:Join us each Thursday for IP3 Peer-to-Peer Sharing Call Office Hours\, a friendly\, collaborative forum where infection prevention professionals can talk through challenges\, share practical solutions\, and learn from colleagues’ experiences. Each week offers a chance to exchange perspectives\, explore questions\, and connect with peers in a supportive setting.\n\n\n\n Every Thursday\n\n 11:30 a.m. \nREGISTER
URL:https://qi.ipro.org/upcoming-events/ip3-office-hours-10/
LOCATION:Online via WebEx
CATEGORIES:Free event,Infection Prevention
ATTACH;FMTTYPE=image/jpeg:https://qi.ipro.org/wp-content/uploads/event-image-169-11.jpg
END:VEVENT
BEGIN:VEVENT
DTSTART;TZID=America/New_York:20260521T113000
DTEND;TZID=America/New_York:20260521T120000
DTSTAMP:20260423T053206
CREATED:20260406T161207Z
LAST-MODIFIED:20260406T161207Z
UID:39388-1779363000-1779364800@qi.ipro.org
SUMMARY:IP3 Office Hours
DESCRIPTION:Join us each Thursday for IP3 Peer-to-Peer Sharing Call Office Hours\, a friendly\, collaborative forum where infection prevention professionals can talk through challenges\, share practical solutions\, and learn from colleagues’ experiences. Each week offers a chance to exchange perspectives\, explore questions\, and connect with peers in a supportive setting.\n\n\n\n Every Thursday\n\n 11:30 a.m. \nREGISTER
URL:https://qi.ipro.org/upcoming-events/ip3-office-hours-11/
LOCATION:Online via WebEx
CATEGORIES:Free event,Infection Prevention
ATTACH;FMTTYPE=image/jpeg:https://qi.ipro.org/wp-content/uploads/event-image-169-11.jpg
END:VEVENT
BEGIN:VEVENT
DTSTART;TZID=America/New_York:20260528T113000
DTEND;TZID=America/New_York:20260528T120000
DTSTAMP:20260423T053206
CREATED:20260406T161234Z
LAST-MODIFIED:20260406T161234Z
UID:39389-1779967800-1779969600@qi.ipro.org
SUMMARY:IP3 Office Hours
DESCRIPTION:Join us each Thursday for IP3 Peer-to-Peer Sharing Call Office Hours\, a friendly\, collaborative forum where infection prevention professionals can talk through challenges\, share practical solutions\, and learn from colleagues’ experiences. Each week offers a chance to exchange perspectives\, explore questions\, and connect with peers in a supportive setting.\n\n\n\n Every Thursday\n\n 11:30 a.m. \nREGISTER
URL:https://qi.ipro.org/upcoming-events/ip3-office-hours-12/
LOCATION:Online via WebEx
CATEGORIES:Free event,Infection Prevention
ATTACH;FMTTYPE=image/jpeg:https://qi.ipro.org/wp-content/uploads/event-image-169-11.jpg
END:VEVENT
BEGIN:VEVENT
DTSTART;TZID=America/New_York:20260604T113000
DTEND;TZID=America/New_York:20260604T120000
DTSTAMP:20260423T053206
CREATED:20260406T161307Z
LAST-MODIFIED:20260406T161307Z
UID:39390-1780572600-1780574400@qi.ipro.org
SUMMARY:IP3 Office Hours
DESCRIPTION:Join us each Thursday for IP3 Peer-to-Peer Sharing Call Office Hours\, a friendly\, collaborative forum where infection prevention professionals can talk through challenges\, share practical solutions\, and learn from colleagues’ experiences. Each week offers a chance to exchange perspectives\, explore questions\, and connect with peers in a supportive setting.\n\n\n\n Every Thursday\n\n 11:30 a.m. \nREGISTER
URL:https://qi.ipro.org/upcoming-events/ip3-office-hours-13/
LOCATION:Online via WebEx
CATEGORIES:Free event,Infection Prevention
ATTACH;FMTTYPE=image/jpeg:https://qi.ipro.org/wp-content/uploads/event-image-169-11.jpg
END:VEVENT
BEGIN:VEVENT
DTSTART;TZID=America/New_York:20260611T113000
DTEND;TZID=America/New_York:20260611T120000
DTSTAMP:20260423T053206
CREATED:20260406T161355Z
LAST-MODIFIED:20260406T161355Z
UID:39391-1781177400-1781179200@qi.ipro.org
SUMMARY:IP3 Office Hours
DESCRIPTION:Join us each Thursday for IP3 Peer-to-Peer Sharing Call Office Hours\, a friendly\, collaborative forum where infection prevention professionals can talk through challenges\, share practical solutions\, and learn from colleagues’ experiences. Each week offers a chance to exchange perspectives\, explore questions\, and connect with peers in a supportive setting.\n\n\n\n Every Thursday\n\n 11:30 a.m. \nREGISTER
URL:https://qi.ipro.org/upcoming-events/ip3-office-hours-14/
LOCATION:Online via WebEx
CATEGORIES:Free event,Infection Prevention
ATTACH;FMTTYPE=image/jpeg:https://qi.ipro.org/wp-content/uploads/event-image-169-11.jpg
END:VEVENT
BEGIN:VEVENT
DTSTART;TZID=America/New_York:20260618T113000
DTEND;TZID=America/New_York:20260618T120000
DTSTAMP:20260423T053206
CREATED:20260406T161435Z
LAST-MODIFIED:20260406T161435Z
UID:39396-1781782200-1781784000@qi.ipro.org
SUMMARY:IP3 Office Hours
DESCRIPTION:Join us each Thursday for IP3 Peer-to-Peer Sharing Call Office Hours\, a friendly\, collaborative forum where infection prevention professionals can talk through challenges\, share practical solutions\, and learn from colleagues’ experiences. Each week offers a chance to exchange perspectives\, explore questions\, and connect with peers in a supportive setting.\n\n\n\n Every Thursday\n\n 11:30 a.m. \nREGISTER
URL:https://qi.ipro.org/upcoming-events/ip3-office-hours-15/
LOCATION:Online via WebEx
CATEGORIES:Free event,Infection Prevention
ATTACH;FMTTYPE=image/jpeg:https://qi.ipro.org/wp-content/uploads/event-image-169-11.jpg
END:VEVENT
BEGIN:VEVENT
DTSTART;TZID=America/New_York:20260625T113000
DTEND;TZID=America/New_York:20260625T120000
DTSTAMP:20260423T053206
CREATED:20260406T161513Z
LAST-MODIFIED:20260406T161513Z
UID:39398-1782387000-1782388800@qi.ipro.org
SUMMARY:IP3 Office Hours
DESCRIPTION:Join us each Thursday for IP3 Peer-to-Peer Sharing Call Office Hours\, a friendly\, collaborative forum where infection prevention professionals can talk through challenges\, share practical solutions\, and learn from colleagues’ experiences. Each week offers a chance to exchange perspectives\, explore questions\, and connect with peers in a supportive setting.\n\n\n\n Every Thursday\n\n 11:30 a.m. \nREGISTER
URL:https://qi.ipro.org/upcoming-events/ip3-office-hours-16/
LOCATION:Online via WebEx
CATEGORIES:Free event,Infection Prevention
ATTACH;FMTTYPE=image/jpeg:https://qi.ipro.org/wp-content/uploads/event-image-169-11.jpg
END:VEVENT
END:VCALENDAR