BEGIN:VCALENDAR
VERSION:2.0
PRODID:-//CMS QIN-QIO - ECPv6.15.11//NONSGML v1.0//EN
CALSCALE:GREGORIAN
METHOD:PUBLISH
X-WR-CALNAME:CMS QIN-QIO
X-ORIGINAL-URL:https://qi.ipro.org
X-WR-CALDESC:Events for CMS QIN-QIO
REFRESH-INTERVAL;VALUE=DURATION:PT1H
X-Robots-Tag:noindex
X-PUBLISHED-TTL:PT1H
BEGIN:VTIMEZONE
TZID:America/New_York
BEGIN:DAYLIGHT
TZOFFSETFROM:-0500
TZOFFSETTO:-0400
TZNAME:EDT
DTSTART:20220313T070000
END:DAYLIGHT
BEGIN:STANDARD
TZOFFSETFROM:-0400
TZOFFSETTO:-0500
TZNAME:EST
DTSTART:20221106T060000
END:STANDARD
BEGIN:DAYLIGHT
TZOFFSETFROM:-0500
TZOFFSETTO:-0400
TZNAME:EDT
DTSTART:20230312T070000
END:DAYLIGHT
BEGIN:STANDARD
TZOFFSETFROM:-0400
TZOFFSETTO:-0500
TZNAME:EST
DTSTART:20231105T060000
END:STANDARD
BEGIN:DAYLIGHT
TZOFFSETFROM:-0500
TZOFFSETTO:-0400
TZNAME:EDT
DTSTART:20240310T070000
END:DAYLIGHT
BEGIN:STANDARD
TZOFFSETFROM:-0400
TZOFFSETTO:-0500
TZNAME:EST
DTSTART:20241103T060000
END:STANDARD
END:VTIMEZONE
BEGIN:VEVENT
DTSTART;TZID=America/New_York:20230418T150000
DTEND;TZID=America/New_York:20230418T160000
DTSTAMP:20260421T164338
CREATED:20230411T134616Z
LAST-MODIFIED:20230502T161121Z
UID:35362-1681830000-1681833600@qi.ipro.org
SUMMARY:TAP: A Strategy to Prioritize and Implement HAI Prevention Efforts in Your Hospital
DESCRIPTION:Join us for a webinar featuring subject matter experts from the Centers for Disease Control and Prevention (CDC) to learn about a comprehensive strategy to reduce hospital acquired infections (HAI). The Targeted Assessment for Prevention (TAP) Strategy is a CDC-developed framework for quality improvement that uses data to drive interventions that will prevent healthcare-associated infections. \nThe TAP strategy targets healthcare facilities and specific units within facilities that have a disproportionate burden of HAIs so that prevention efforts can be prioritized and implemented where they will have the greatest impact. Our speakers will discuss the latest updates in the strategy and tools\, including adaptation for smaller facilities. \nYour participation in this webinar will provide you with updated information on: \n\nHow to use NHSN collected data to identify opportunities for improvement by facility and unit.\nHow to calculate a cumulative attributable difference (CAD)* to identify a concrete infection reduction goal\nHow to use CDC assessments to target the focus of improvement work and identify high value interventions.\n\n*The number of infections that must be prevented to achieve an HAI reduction goal.  \nWho should attend: \n\nClinical staff\nInfection control practitioners\nPharmacists\nQuality improvement staff\n\nSpeakers:\nKatie White\, MPH\, CIC \nEpidemiologist Division of Healthcare Quality | Promotion Prevention and Response Branch \nCenters for Disease Contol and Prevention \nRonda Cochran\, MPH    \nDeputy Team Lead Hospital Infection Prevention Team \nPrevention and Response Branch Division of Healthcare Quality Promotion (DHQP) \nCenters for Disease Control and Prevention \nRachel Snyder\, MPH  \nScientific Data Analyst Chenega Enterprise Systems and Solutions (chESS) \nPrevention and Response Branch Division of Healthcare Quality Promotion (DHQP) \nCenters for Disease Control and Prevention \n  \nWatch the Recording\nView the Slides
URL:https://qi.ipro.org/upcoming-events/tap-a-strategy-to-prioritize-and-implement-hai-prevention-efforts-in-your-hospital/
LOCATION:Online via WebEx
CATEGORIES:Free event,Hospital event,Infection Prevention,Nursing Home,Quality Improvement
END:VEVENT
BEGIN:VEVENT
DTSTART;TZID=America/New_York:20230426T120000
DTEND;TZID=America/New_York:20230426T130000
DTSTAMP:20260421T164338
CREATED:20230106T210437Z
LAST-MODIFIED:20230124T151456Z
UID:34737-1682510400-1682514000@qi.ipro.org
SUMMARY:Urinary Tract Infection (UTI) Learning Circle Session II
DESCRIPTION:Did You Know?\n\nUTIs are second most frequent infection in NH facilities\nPrevalence of UTIs range from 0.6 to 21.8%\nUTI treatment represents 30-50% of antibiotic use in NH facilities\n\nWhat is a Learning Circle?\nA Learning Circle is a forum for education and sharing of knowledge so that all participants may benefit from the wisdom and experience of the group. In the IPRO QIN-QIO UTI Learning Circle\, we will: \n\nShare antibiogram data and discuss use of the data to improve care\nPose questions to Subject Matter Experts on UTI stewardship\nUtilize a template action plan to assess UTI management and evaluate quality improvement outcome measures\n\nSession 2 \nApril 26\, 2023 \n12-1pm EST (11-12 pm CST)    \n Local Practices and Current Topics
URL:https://qi.ipro.org/upcoming-events/urinary-tract-infection-uti-learning-circle-session-ii/
LOCATION:Online via WebEx
CATEGORIES:Free event,Infection Prevention,Nursing Home
END:VEVENT
BEGIN:VEVENT
DTSTART;TZID=America/New_York:20230427T130000
DTEND;TZID=America/New_York:20230427T140000
DTSTAMP:20260421T164338
CREATED:20230427T125929Z
LAST-MODIFIED:20230605T125546Z
UID:35537-1682600400-1682604000@qi.ipro.org
SUMMARY:Transitions in Care: Preventing Sepsis-Related Readmissions
DESCRIPTION:Anyone can develop sepsis\, a life-threatening\, complex and challenging condition to manage. There are significant human and financial costs associated with it. Every year more than 1.7 million adults in the U.S. develop sepsis\, leading to over 270\,000 deaths. Roughly 19% of sepsis survivors are readmitted to the hospital within 30 days\, leading to $3.1 billion in annual costs. Well-defined systems and processes across the continuum are crucial to delivering the right care at the right time to the right patient. \nThis event will feature proactive transitions in care and hand-off strategies to the next level of care provider to improve patient outcomes and prevent sepsis-related readmissions. The patient voice will be highlighted via a sepsis survivor story. Key discharge planning\, patient and family engagement\, health equity\, infection prevention and patient education tactics will also be shared. \nLearning Objectives:\nThrough this program\, participants will: \n\nReview successful care coordination and partnership strategies across the care continuum to prevent sepsis-related hospital readmissions.\nExplore promising practices for overcoming challenges that affect handoffs to the next level of care.\nLearn how to engage patients and families as partners and integrate their health-related social needs into the discharge planning process to improve patient outcomes.\nHear about a sepsis survivor story\n\n  \nWho Should Attend:\nNurses\, Sepsis Coordinators\, Care Coordinators\, Front-line and Emergency Department Staff\, Infection Preventionists\, Clinical and Hospital Leaders\, Physicians\, Patient Safety and Quality Professionals. \n  \nView Slides\nWatch the Recording\nChange Pathway
URL:https://qi.ipro.org/upcoming-events/transitions-in-care-preventing-sepsis-related-readmissions/
LOCATION:Online via WebEx
CATEGORIES:Free event,Hospital event,Infection Prevention,Quality Improvement
END:VEVENT
END:VCALENDAR