BEGIN:VCALENDAR
VERSION:2.0
PRODID:-//CMS QIN-QIO - ECPv6.15.20//NONSGML v1.0//EN
CALSCALE:GREGORIAN
METHOD:PUBLISH
X-WR-CALNAME:CMS QIN-QIO
X-ORIGINAL-URL:https://qi.ipro.org
X-WR-CALDESC:Events for CMS QIN-QIO
REFRESH-INTERVAL;VALUE=DURATION:PT1H
X-Robots-Tag:noindex
X-PUBLISHED-TTL:PT1H
BEGIN:VTIMEZONE
TZID:America/New_York
BEGIN:DAYLIGHT
TZOFFSETFROM:-0500
TZOFFSETTO:-0400
TZNAME:EDT
DTSTART:20220313T070000
END:DAYLIGHT
BEGIN:STANDARD
TZOFFSETFROM:-0400
TZOFFSETTO:-0500
TZNAME:EST
DTSTART:20221106T060000
END:STANDARD
BEGIN:DAYLIGHT
TZOFFSETFROM:-0500
TZOFFSETTO:-0400
TZNAME:EDT
DTSTART:20230312T070000
END:DAYLIGHT
BEGIN:STANDARD
TZOFFSETFROM:-0400
TZOFFSETTO:-0500
TZNAME:EST
DTSTART:20231105T060000
END:STANDARD
BEGIN:DAYLIGHT
TZOFFSETFROM:-0500
TZOFFSETTO:-0400
TZNAME:EDT
DTSTART:20240310T070000
END:DAYLIGHT
BEGIN:STANDARD
TZOFFSETFROM:-0400
TZOFFSETTO:-0500
TZNAME:EST
DTSTART:20241103T060000
END:STANDARD
END:VTIMEZONE
BEGIN:VEVENT
DTSTART;TZID=America/New_York:20231116T110000
DTEND;TZID=America/New_York:20231116T120000
DTSTAMP:20260425T235915
CREATED:20231114T214146Z
LAST-MODIFIED:20231114T214146Z
UID:36809-1700132400-1700136000@qi.ipro.org
SUMMARY:Creating and Implementing Your Workplace Violence Policy
DESCRIPTION:Topics to be Covered: \n\nWhere do you start? What is your program going to look like?\n How did you approach assembling the multi-disciplinary team to work\non policy and procedure development?\nWho takes the lead on investigating allegations or incidents of\nworkplace violence?\nWhat kind of support is available for employees who experience any\nform of workplace violence?\nHow are workplace violence policies and procedures communicated?
URL:https://qi.ipro.org/upcoming-events/creating-and-implementing-your-workplace-violence-policy/
LOCATION:Online via WebEx
CATEGORIES:Emergency Preparedness,Free event,Hospital event
END:VEVENT
BEGIN:VEVENT
DTSTART;TZID=America/New_York:20231116T150000
DTEND;TZID=America/New_York:20231116T160000
DTSTAMP:20260425T235915
CREATED:20230419T142810Z
LAST-MODIFIED:20230614T154613Z
UID:35396-1700146800-1700150400@qi.ipro.org
SUMMARY:LINKS: Supporting Individuals with or at Risk for Diabetes
DESCRIPTION:Description: \nDuring each session\, we will review a topic of focus: \n– Consider the importance of this health area \n– Explore opportunities for community-based organizations to engage and support community health in this area \n– Share challenges and best practices to expand reach and impact community health \nJoin our 2023 quarterly forums to explore mutual goals and opportunities to enhance the impact our partnership can have on community health.
URL:https://qi.ipro.org/upcoming-events/links-supporting-individuals-with-or-at-risk-for-diabetes/
LOCATION:Online via Zoom
CATEGORIES:Free event,Hospital event,Nursing Home
END:VEVENT
BEGIN:VEVENT
DTSTART;TZID=America/New_York:20231116T190000
DTEND;TZID=America/New_York:20231116T200000
DTSTAMP:20260425T235915
CREATED:20231025T144213Z
LAST-MODIFIED:20231025T144213Z
UID:36760-1700161200-1700164800@qi.ipro.org
SUMMARY:Recognizing and Responding to an Opioid-Involved Breathing Emergency
DESCRIPTION:Learning Objectives \nAt the completion of this activity learners will be able to: \n\nDescribe how to effectively recognize and respond to an opioid-involved breathing emergency\, including considerations with xylazine and illicitly manufactured fentanyl.\nCounsel patients and caregivers on how to use unregulated substances more safely and where to find recovery resources.\nDispel myths and provide facts related to medications for opioid use disorder\, passive fentanyl exposure\, various naloxone formulations\, and liability concerns.\n\nSpeaker \nAnita Jacobson\, PharmD \nClinical Professor; Program Director\, Community First Responder Program (CFRP) \nUniversity of Rhode Island College of Pharmacy                 \nDr. Anita Jacobson is a Clinical Professor at the University of Rhode Island College of Pharmacy and has worked as a pharmacist in a variety of patient care settings for 25 years. She is the Program Director of the Community First Responder Program (CFRP) which focuses on harm reduction\, overdose education and naloxone outreach to at-risk populations. CFRP is also the hub for the Northeast Regional Rural Opioid Technical Assistance Center \nThe University of Rhode Island College of Pharmacy is accredited by the Accreditation Council for Pharmacy Education as a provider of continuing pharmacy education. This is an application-based educational activity. Pharmacists will receive 1 contact hour (0.1 CEUs) for the educational activity. No partial credit is available. UNIVERSAL ACTIVITY NUMBER (UAN): 0060-0000-23-040-L01-P. Expiration Date 05/04/2026. \nSocial Work This activity has been approved by the National Association of Social Workers Rhode Island Chapter for 1.0 credit hour. NASW Authorization # RI-9028. Expiration Date: 04/30/2025. \nLicensed Mental Health Counselors This activity has been reviewed and approved by the Rhode Island Mental Health Counselors Association for up to 1.0 contact hour (1.0 CEUs). Expiration Date: 07/25/2024. \nNursing This nursing continuing professional development activity was approved by the Northeast Multistate Division Education Unit\, an accredited approver by the American Nurses Credentialing Center’s Commission on Accreditation for up to 1.0 contact hour. NEMSD Approval # 557-790-081622. Expiration Date: 08/16/2024. \n PROGRAM EVALUATION \nAll participants will have the opportunity to evaluate the educational sessions\, speakers and identify educational needs. \n REQUIREMENTS FOR CE CREDIT \nA program evaluation must be completed at www.uripharmacycpd.org within 60 days of the live program date (1/15/2024) in order to receive CE credit. CE credit will be transferred to the CPE Monitor upon successful completion of the program evaluation. Transfer of CE credit should be verified at mycpemonitor.net where CE statements are available to print. Please refer to the evaluation instructions that follow for completing program evaluations and reporting CE credit. \n FACULTY DISCLOSURE: Relevant conflicts of interest will be disclosed to participants at the start of the educational activity.
URL:https://qi.ipro.org/upcoming-events/recognizing-and-responding-to-an-opioid-involved-breathing-emergency/
LOCATION:Online via WebEx
CATEGORIES:Hospital event,Nursing Home,Opioid
END:VEVENT
END:VCALENDAR