BEGIN:VCALENDAR
VERSION:2.0
PRODID:-//CMS QIN-QIO - ECPv6.15.20//NONSGML v1.0//EN
CALSCALE:GREGORIAN
METHOD:PUBLISH
X-ORIGINAL-URL:https://qi.ipro.org
X-WR-CALDESC:Events for CMS QIN-QIO
REFRESH-INTERVAL;VALUE=DURATION:PT1H
X-Robots-Tag:noindex
X-PUBLISHED-TTL:PT1H
BEGIN:VTIMEZONE
TZID:America/New_York
BEGIN:DAYLIGHT
TZOFFSETFROM:-0500
TZOFFSETTO:-0400
TZNAME:EDT
DTSTART:20230312T070000
END:DAYLIGHT
BEGIN:STANDARD
TZOFFSETFROM:-0400
TZOFFSETTO:-0500
TZNAME:EST
DTSTART:20231105T060000
END:STANDARD
BEGIN:DAYLIGHT
TZOFFSETFROM:-0500
TZOFFSETTO:-0400
TZNAME:EDT
DTSTART:20240310T070000
END:DAYLIGHT
BEGIN:STANDARD
TZOFFSETFROM:-0400
TZOFFSETTO:-0500
TZNAME:EST
DTSTART:20241103T060000
END:STANDARD
BEGIN:DAYLIGHT
TZOFFSETFROM:-0500
TZOFFSETTO:-0400
TZNAME:EDT
DTSTART:20250309T070000
END:DAYLIGHT
BEGIN:STANDARD
TZOFFSETFROM:-0400
TZOFFSETTO:-0500
TZNAME:EST
DTSTART:20251102T060000
END:STANDARD
END:VTIMEZONE
BEGIN:VEVENT
DTSTART;TZID=America/New_York:20240423T140000
DTEND;TZID=America/New_York:20240423T150000
DTSTAMP:20260424T171211
CREATED:20240404T142043Z
LAST-MODIFIED:20240404T142406Z
UID:37576-1713880800-1713884400@qi.ipro.org
SUMMARY:Leaders Forum 2024 Session #2
DESCRIPTION:The IPRO QIN-QIO Leader Forum sessions offer a unique opportunity to connect with providers from across the 11-state and District of Columbia network to explore key questions\, share promising practices\, and problem-solve with peers. \nBe sure to share this invitation with others from your organization and/or community who might find value and/or be able to contribute to the network’s learnings.
URL:https://qi.ipro.org/upcoming-events/leaders-forum-2024-session-2/
LOCATION:Online via Zoom
CATEGORIES:Free event,Hospital event
END:VEVENT
BEGIN:VEVENT
DTSTART;TZID=America/New_York:20240425T130000
DTEND;TZID=America/New_York:20240425T140000
DTSTAMP:20260424T171211
CREATED:20240315T162601Z
LAST-MODIFIED:20240328T190345Z
UID:37466-1714050000-1714053600@qi.ipro.org
SUMMARY:Hospitals in Action: Promising Workplace Violence Prevention Strategies for Safer Care
DESCRIPTION:Violence against health care workers continues to rise and hospital leaders are seeking strategies to enhance workplace safety while upholding patient care standards. According to data gathered in 2023 by National Nurses United (NNU)\, 81.6% of nurses reported that they have experienced workplace violence\, with half stating they have seen instances of violence increase in the last year. \nJoin us for Part 4 of the HQIC Workplace Violence (WPV) Prevention webinar series. This dynamic session will feature sharing of real-world experiences and promising WPV prevention practices from healthcare leaders in diverse roles at a rural hospital\, community hospital and an urban health system. \nLearning Objectives:\n• Hear from leaders from diverse hospital settings about successes\, challenges and lessons learned from their unique workplace violence prevention journey\n• Review key components of system-wide workplace violence prevention programs and the impact on workforce safety\n• Identify key strategies and actionable steps healthcare leaders can take to effectively address workplace violence \nWho Should Attend:\nHospital leaders\, nurses\, physicians\, front-line and Emergency Department staff\, security and safety team specialists\, risk management\, employee/occupational health\, patient safety and quality professionals
URL:https://qi.ipro.org/upcoming-events/hospitals-in-action-promising-workplace-violence-prevention-strategies-for-safer-care/
LOCATION:Online via WebEx
CATEGORIES:Free event,Hospital event
END:VEVENT
END:VCALENDAR