BEGIN:VCALENDAR
VERSION:2.0
PRODID:-//CMS QIN-QIO - ECPv6.15.11//NONSGML v1.0//EN
CALSCALE:GREGORIAN
METHOD:PUBLISH
X-ORIGINAL-URL:https://qi.ipro.org
X-WR-CALDESC:Events for CMS QIN-QIO
REFRESH-INTERVAL;VALUE=DURATION:PT1H
X-Robots-Tag:noindex
X-PUBLISHED-TTL:PT1H
BEGIN:VTIMEZONE
TZID:America/New_York
BEGIN:DAYLIGHT
TZOFFSETFROM:-0500
TZOFFSETTO:-0400
TZNAME:EDT
DTSTART:20230312T070000
END:DAYLIGHT
BEGIN:STANDARD
TZOFFSETFROM:-0400
TZOFFSETTO:-0500
TZNAME:EST
DTSTART:20231105T060000
END:STANDARD
BEGIN:DAYLIGHT
TZOFFSETFROM:-0500
TZOFFSETTO:-0400
TZNAME:EDT
DTSTART:20240310T070000
END:DAYLIGHT
BEGIN:STANDARD
TZOFFSETFROM:-0400
TZOFFSETTO:-0500
TZNAME:EST
DTSTART:20241103T060000
END:STANDARD
BEGIN:DAYLIGHT
TZOFFSETFROM:-0500
TZOFFSETTO:-0400
TZNAME:EDT
DTSTART:20250309T070000
END:DAYLIGHT
BEGIN:STANDARD
TZOFFSETFROM:-0400
TZOFFSETTO:-0500
TZNAME:EST
DTSTART:20251102T060000
END:STANDARD
END:VTIMEZONE
BEGIN:VEVENT
DTSTART;TZID=America/New_York:20240214T120000
DTEND;TZID=America/New_York:20240214T130000
DTSTAMP:20260420T155454
CREATED:20230724T150133Z
LAST-MODIFIED:20240227T163839Z
UID:35958-1707912000-1707915600@qi.ipro.org
SUMMARY:Health-Related Social Needs Series Part 6
DESCRIPTION:Topic: Health-Related Social Needs Series Part 6 \nDescription: \nAddressing health-related social needs (or social drivers of health) can improve health\noutcomes. Health-related social needs include food insecurity\, housing instability\,\ntransportation needs\, utility difficulties\, and interpersonal safety. \nJoin IPRO QIN-QIO for the Health-Related Social Needs Series to learn\, collaborate\,\nshare best practices and lessons learned on how best to screen for\, capture\ninformation about\, and address social needs. \n\nEngage in interactive sessions where participants learn about health-related social needs\nand specific issues when screening\, collecting\, and addressing this information.\nParticipate in a collaborative forum to share best practices\, challenges\, and lessons\nlearned\, including ways to streamline reporting to CMS.\nShare tools\, resources\, and other material with your peers.\n\n\nView Presentation
URL:https://qi.ipro.org/upcoming-events/health-related-social-needs-series-part-6/
LOCATION:Online via WebEx
CATEGORIES:Free event,Health Equity
END:VEVENT
BEGIN:VEVENT
DTSTART;TZID=America/New_York:20240228T120000
DTEND;TZID=America/New_York:20240228T123000
DTSTAMP:20260420T155454
CREATED:20240208T192849Z
LAST-MODIFIED:20240208T201439Z
UID:37313-1709121600-1709123400@qi.ipro.org
SUMMARY:IPRO Short Sessions: Collaborating for Equity: Establishing an Organizational Commitment to Health Equity
DESCRIPTION:Join IPRO for a six-session health equity series focused on topics that align with Priority 3 of the CMS Framework for Health Equity\, Build Capacity of Health Care Organizations and the Workforce to Reduce Health and Health Care Disparities. Within Priority 3\, CMS states that “Each interaction with a member of a health care team\, whether clinical\, behavioral\, social\, or administrative\, is another opportunity to make someone’s health care\, and health status\, better. \nHowever\, health care professionals across settings must be equipped with resources and knowledge of what works to reduce disparities.” \nIn each 30-minute session\, IPRO will discuss priority equity topics and promising practices to assist health care organizations identify and address health disparities. IPRO will weave in recent updates to CMS’ prospective payment system rules and health equity measures that serve to advance health equity across Medicare programs.
URL:https://qi.ipro.org/upcoming-events/ipro-short-sessions-collaborating-for-equity-session-1-2/
LOCATION:Online via WebEx
CATEGORIES:Free event,Health Equity
END:VEVENT
END:VCALENDAR