BEGIN:VCALENDAR
VERSION:2.0
PRODID:-//CMS QIN-QIO - ECPv6.15.20//NONSGML v1.0//EN
CALSCALE:GREGORIAN
METHOD:PUBLISH
X-ORIGINAL-URL:https://qi.ipro.org
X-WR-CALDESC:Events for CMS QIN-QIO
REFRESH-INTERVAL;VALUE=DURATION:PT1H
X-Robots-Tag:noindex
X-PUBLISHED-TTL:PT1H
BEGIN:VTIMEZONE
TZID:America/New_York
BEGIN:DAYLIGHT
TZOFFSETFROM:-0500
TZOFFSETTO:-0400
TZNAME:EDT
DTSTART:20220313T070000
END:DAYLIGHT
BEGIN:STANDARD
TZOFFSETFROM:-0400
TZOFFSETTO:-0500
TZNAME:EST
DTSTART:20221106T060000
END:STANDARD
BEGIN:DAYLIGHT
TZOFFSETFROM:-0500
TZOFFSETTO:-0400
TZNAME:EDT
DTSTART:20230312T070000
END:DAYLIGHT
BEGIN:STANDARD
TZOFFSETFROM:-0400
TZOFFSETTO:-0500
TZNAME:EST
DTSTART:20231105T060000
END:STANDARD
BEGIN:DAYLIGHT
TZOFFSETFROM:-0500
TZOFFSETTO:-0400
TZNAME:EDT
DTSTART:20240310T070000
END:DAYLIGHT
BEGIN:STANDARD
TZOFFSETFROM:-0400
TZOFFSETTO:-0500
TZNAME:EST
DTSTART:20241103T060000
END:STANDARD
END:VTIMEZONE
BEGIN:VEVENT
DTSTART;TZID=America/New_York:20230727T120000
DTEND;TZID=America/New_York:20230727T130000
DTSTAMP:20260424T233255
CREATED:20230614T145657Z
LAST-MODIFIED:20230905T140420Z
UID:35767-1690459200-1690462800@qi.ipro.org
SUMMARY:Emergency Preparedness: Back to Basics Session 3 - Requirements of an Emergency Preparedness Plan
DESCRIPTION:Session 3 \nIn this session\, participants will review the Federal Requirements for the Emergency Preparedness Plan including: \n\nCommunications\nTraining and Testing\nSurvey process for reviewing the Emergency Plan\nUpdating contacts\nEmergency Preparedness Checklist\n\nWatch Recording
URL:https://qi.ipro.org/upcoming-events/emergency-preparedness-back-to-basics-session-3-requirements-of-an-emergency-preparedness-plan/
LOCATION:Online via Zoom
CATEGORIES:Emergency Preparedness,Free event,Nursing Home
END:VEVENT
END:VCALENDAR