BEGIN:VCALENDAR
VERSION:2.0
PRODID:-//CMS QIN-QIO - ECPv6.15.20//NONSGML v1.0//EN
CALSCALE:GREGORIAN
METHOD:PUBLISH
X-ORIGINAL-URL:https://qi.ipro.org
X-WR-CALDESC:Events for CMS QIN-QIO
REFRESH-INTERVAL;VALUE=DURATION:PT1H
X-Robots-Tag:noindex
X-PUBLISHED-TTL:PT1H
BEGIN:VTIMEZONE
TZID:America/New_York
BEGIN:DAYLIGHT
TZOFFSETFROM:-0500
TZOFFSETTO:-0400
TZNAME:EDT
DTSTART:20220313T070000
END:DAYLIGHT
BEGIN:STANDARD
TZOFFSETFROM:-0400
TZOFFSETTO:-0500
TZNAME:EST
DTSTART:20221106T060000
END:STANDARD
BEGIN:DAYLIGHT
TZOFFSETFROM:-0500
TZOFFSETTO:-0400
TZNAME:EDT
DTSTART:20230312T070000
END:DAYLIGHT
BEGIN:STANDARD
TZOFFSETFROM:-0400
TZOFFSETTO:-0500
TZNAME:EST
DTSTART:20231105T060000
END:STANDARD
BEGIN:DAYLIGHT
TZOFFSETFROM:-0500
TZOFFSETTO:-0400
TZNAME:EDT
DTSTART:20240310T070000
END:DAYLIGHT
BEGIN:STANDARD
TZOFFSETFROM:-0400
TZOFFSETTO:-0500
TZNAME:EST
DTSTART:20241103T060000
END:STANDARD
END:VTIMEZONE
BEGIN:VEVENT
DTSTART;TZID=America/New_York:20230720T120000
DTEND;TZID=America/New_York:20230720T130000
DTSTAMP:20260424T233205
CREATED:20230614T145348Z
LAST-MODIFIED:20230803T184912Z
UID:35764-1689854400-1689858000@qi.ipro.org
SUMMARY:Emergency Preparedness: Back to Basics Session 2 - What's the Worst that Could Happen?
DESCRIPTION:Session 2: What’s the worst that could happen? \nIn this session\, participants will learn: \n\nThe difference between a Hazard Vulnerability Analysis and a Facility-Based Risk Assessment\nBest practices for engaging staff and community partners in completing your Hazard Vulnerability Analysis and Facility-Based Risk Assessment\nHow the Hazard Vulnerability Analysis and Facility-Based Risk Assessment relate to the development of policies and procedures and the training and exercise plan\n\nWatch Recording\n 
URL:https://qi.ipro.org/upcoming-events/emergency-preparedness-back-to-basics-session-2-whats-the-worst-that-could-happen/
CATEGORIES:Emergency Preparedness,Free event,Nursing Home
END:VEVENT
END:VCALENDAR