BEGIN:VCALENDAR
VERSION:2.0
PRODID:-//CMS QIN-QIO - ECPv6.15.20//NONSGML v1.0//EN
CALSCALE:GREGORIAN
METHOD:PUBLISH
X-WR-CALNAME:CMS QIN-QIO
X-ORIGINAL-URL:https://qi.ipro.org
X-WR-CALDESC:Events for CMS QIN-QIO
REFRESH-INTERVAL;VALUE=DURATION:PT1H
X-Robots-Tag:noindex
X-PUBLISHED-TTL:PT1H
BEGIN:VTIMEZONE
TZID:America/New_York
BEGIN:DAYLIGHT
TZOFFSETFROM:-0500
TZOFFSETTO:-0400
TZNAME:EDT
DTSTART:20220313T070000
END:DAYLIGHT
BEGIN:STANDARD
TZOFFSETFROM:-0400
TZOFFSETTO:-0500
TZNAME:EST
DTSTART:20221106T060000
END:STANDARD
BEGIN:DAYLIGHT
TZOFFSETFROM:-0500
TZOFFSETTO:-0400
TZNAME:EDT
DTSTART:20230312T070000
END:DAYLIGHT
BEGIN:STANDARD
TZOFFSETFROM:-0400
TZOFFSETTO:-0500
TZNAME:EST
DTSTART:20231105T060000
END:STANDARD
BEGIN:DAYLIGHT
TZOFFSETFROM:-0500
TZOFFSETTO:-0400
TZNAME:EDT
DTSTART:20240310T070000
END:DAYLIGHT
BEGIN:STANDARD
TZOFFSETFROM:-0400
TZOFFSETTO:-0500
TZNAME:EST
DTSTART:20241103T060000
END:STANDARD
END:VTIMEZONE
BEGIN:VEVENT
DTSTART;TZID=America/New_York:20230713T120000
DTEND;TZID=America/New_York:20230713T123000
DTSTAMP:20260424T233132
CREATED:20230614T145126Z
LAST-MODIFIED:20230831T173211Z
UID:35762-1689249600-1689251400@qi.ipro.org
SUMMARY:Emergency Preparedness: Back to Basics Session 1 - Overview
DESCRIPTION:The IPRO QIN-QIO nursing home team supports providers in maintaining competency\, skill\, and readiness for emergencies. If you are new to your position or would like to brush up on emergency planning\, then this series is for you. Don’t wait to discover the worst that could happen. Learn to be prepared in advance for any emergency. \nSession 1: Overview \nIn this session\, participants will explore the four elements of the Emergency Plan and requirements for each element: \n\nRisk Assessment Planning\nPolicies and Procedures\nCommunication Plan\nTraining and Testing\n\nWatch Recording
URL:https://qi.ipro.org/upcoming-events/emergency-preparedness-back-to-basics-session-1-overview/
LOCATION:Online via Zoom
CATEGORIES:Emergency Preparedness,Free event,Nursing Home
END:VEVENT
END:VCALENDAR