BEGIN:VCALENDAR
VERSION:2.0
PRODID:-//CMS QIN-QIO - ECPv6.15.11//NONSGML v1.0//EN
CALSCALE:GREGORIAN
METHOD:PUBLISH
X-ORIGINAL-URL:https://qi.ipro.org
X-WR-CALDESC:Events for CMS QIN-QIO
REFRESH-INTERVAL;VALUE=DURATION:PT1H
X-Robots-Tag:noindex
X-PUBLISHED-TTL:PT1H
BEGIN:VTIMEZONE
TZID:America/New_York
BEGIN:DAYLIGHT
TZOFFSETFROM:-0500
TZOFFSETTO:-0400
TZNAME:EDT
DTSTART:20240310T070000
END:DAYLIGHT
BEGIN:STANDARD
TZOFFSETFROM:-0400
TZOFFSETTO:-0500
TZNAME:EST
DTSTART:20241103T060000
END:STANDARD
BEGIN:DAYLIGHT
TZOFFSETFROM:-0500
TZOFFSETTO:-0400
TZNAME:EDT
DTSTART:20250309T070000
END:DAYLIGHT
BEGIN:STANDARD
TZOFFSETFROM:-0400
TZOFFSETTO:-0500
TZNAME:EST
DTSTART:20251102T060000
END:STANDARD
BEGIN:DAYLIGHT
TZOFFSETFROM:-0500
TZOFFSETTO:-0400
TZNAME:EDT
DTSTART:20260308T070000
END:DAYLIGHT
BEGIN:STANDARD
TZOFFSETFROM:-0400
TZOFFSETTO:-0500
TZNAME:EST
DTSTART:20261101T060000
END:STANDARD
END:VTIMEZONE
BEGIN:VEVENT
DTSTART;TZID=America/New_York:20251120T113000
DTEND;TZID=America/New_York:20251120T123000
DTSTAMP:20260419T202645
CREATED:20251114T173219Z
LAST-MODIFIED:20251114T173253Z
UID:38850-1763638200-1763641800@qi.ipro.org
SUMMARY:IP3 (Infection Prevention for Infection Preventionists by an Infection Preventionist) Office Hours
DESCRIPTION:Join us as we bring back our weekly IP3 Office Hours\, where we gather with colleagues to discuss our infection prevention challenges\, solutions\, strategies\, and success stories. IP3 Office Hours repeat every Thursday from 11:30 am – 12:15 pm ET.
URL:https://qi.ipro.org/upcoming-events/ip3-infection-prevention-for-infection-preventionists-by-an-infection-preventionist-office-hours/
LOCATION:Online via WebEx
CATEGORIES:Infection Prevention
END:VEVENT
END:VCALENDAR