BEGIN:VCALENDAR
VERSION:2.0
PRODID:-//CMS QIN-QIO - ECPv6.15.11//NONSGML v1.0//EN
CALSCALE:GREGORIAN
METHOD:PUBLISH
X-WR-CALNAME:CMS QIN-QIO
X-ORIGINAL-URL:https://qi.ipro.org
X-WR-CALDESC:Events for CMS QIN-QIO
REFRESH-INTERVAL;VALUE=DURATION:PT1H
X-Robots-Tag:noindex
X-PUBLISHED-TTL:PT1H
BEGIN:VTIMEZONE
TZID:America/New_York
BEGIN:DAYLIGHT
TZOFFSETFROM:-0500
TZOFFSETTO:-0400
TZNAME:EDT
DTSTART:20240310T070000
END:DAYLIGHT
BEGIN:STANDARD
TZOFFSETFROM:-0400
TZOFFSETTO:-0500
TZNAME:EST
DTSTART:20241103T060000
END:STANDARD
BEGIN:DAYLIGHT
TZOFFSETFROM:-0500
TZOFFSETTO:-0400
TZNAME:EDT
DTSTART:20250309T070000
END:DAYLIGHT
BEGIN:STANDARD
TZOFFSETFROM:-0400
TZOFFSETTO:-0500
TZNAME:EST
DTSTART:20251102T060000
END:STANDARD
BEGIN:DAYLIGHT
TZOFFSETFROM:-0500
TZOFFSETTO:-0400
TZNAME:EDT
DTSTART:20260308T070000
END:DAYLIGHT
BEGIN:STANDARD
TZOFFSETFROM:-0400
TZOFFSETTO:-0500
TZNAME:EST
DTSTART:20261101T060000
END:STANDARD
END:VTIMEZONE
BEGIN:VEVENT
DTSTART;TZID=America/New_York:20250930T160000
DTEND;TZID=America/New_York:20250930T163000
DTSTAMP:20260420T010727
CREATED:20250930T185049Z
LAST-MODIFIED:20250930T190028Z
UID:38709-1759248000-1759249800@qi.ipro.org
SUMMARY:Advancing Quality in Nursing Homes: What’s New in CMS’ Quality Improvement Program
DESCRIPTION:CMS\, through the Mid-Atlantic QIN-QIO\, offers no-cost quality improvement support for eligible nursing homes. Not sure if your facility qualifies? Join a webinar to learn more and see how the program can help your team. \nJoin an informative\, action-oriented webinar for nursing home leaders and care teams. This brief session will provide a comprehensive overview of CMS’ Quality Improvement Program\, spotlighting key focus areas and real-world examples of successful partnerships with the Mid-Atlantic CMS Quality Innovation Network–Quality Improvement Organization (QIN-QIO). \nJoin a session to discover: \n\nHow your organization was selected for this program.\nThe benefits of participating with the Mid-Atlantic CMS QIN-QIO and how to enroll.\nStrategies we’ve shared with facilities like yours to address priority areas.\nNew focus areas in the CMS QIN-QIO 13th Scope of Work (SOW)\, including overcoming staffing challenges\, expanding access to behavioral health resources\, enhancing emergency preparedness through drills and exercises\, and integrating technology to improve quality outcomes.\n\n \nCan’t attend? Schedule a one-on-one conversation with your local Quality Improvement Advisor to learn more and check your eligibility.
URL:https://qi.ipro.org/upcoming-events/advancing-quality-in-nursing-homes-whats-new-in-cms-quality-improvement-program/
CATEGORIES:Free event,Nursing Home
END:VEVENT
END:VCALENDAR