BEGIN:VCALENDAR
VERSION:2.0
PRODID:-//CMS QIN-QIO - ECPv6.15.11//NONSGML v1.0//EN
CALSCALE:GREGORIAN
METHOD:PUBLISH
X-ORIGINAL-URL:https://qi.ipro.org
X-WR-CALDESC:Events for CMS QIN-QIO
REFRESH-INTERVAL;VALUE=DURATION:PT1H
X-Robots-Tag:noindex
X-PUBLISHED-TTL:PT1H
BEGIN:VTIMEZONE
TZID:America/New_York
BEGIN:DAYLIGHT
TZOFFSETFROM:-0500
TZOFFSETTO:-0400
TZNAME:EDT
DTSTART:20230312T070000
END:DAYLIGHT
BEGIN:STANDARD
TZOFFSETFROM:-0400
TZOFFSETTO:-0500
TZNAME:EST
DTSTART:20231105T060000
END:STANDARD
BEGIN:DAYLIGHT
TZOFFSETFROM:-0500
TZOFFSETTO:-0400
TZNAME:EDT
DTSTART:20240310T070000
END:DAYLIGHT
BEGIN:STANDARD
TZOFFSETFROM:-0400
TZOFFSETTO:-0500
TZNAME:EST
DTSTART:20241103T060000
END:STANDARD
BEGIN:DAYLIGHT
TZOFFSETFROM:-0500
TZOFFSETTO:-0400
TZNAME:EDT
DTSTART:20250309T070000
END:DAYLIGHT
BEGIN:STANDARD
TZOFFSETFROM:-0400
TZOFFSETTO:-0500
TZNAME:EST
DTSTART:20251102T060000
END:STANDARD
END:VTIMEZONE
BEGIN:VEVENT
DTSTART;TZID=America/New_York:20241031T110000
DTEND;TZID=America/New_York:20241031T113000
DTSTAMP:20260419T202654
CREATED:20240802T202708Z
LAST-MODIFIED:20240802T202708Z
UID:37967-1730372400-1730374200@qi.ipro.org
SUMMARY:Infection Prevention for Infection Preventionist by Infection Preventionists (IP3)
DESCRIPTION:Join our IP3 group for a lively discussion with other infection preventionists to share new infection prevention ideas and discover new strategies. This group is hosted by Melanie Ronda\, MSN\, RN and Mary Ellen Casey\, MSN\, RN\, M.Ed.\, CIC every Thursday at 11 am ET.
URL:https://qi.ipro.org/upcoming-events/infection-prevention-for-infection-preventionist-by-infection-preventionists-ip3-16/
LOCATION:Online via Zoom
CATEGORIES:Free event,Infection Prevention
END:VEVENT
BEGIN:VEVENT
DTSTART;TZID=America/New_York:20241031T110000
DTEND;TZID=America/New_York:20241031T120000
DTSTAMP:20260419T202654
CREATED:20240920T151009Z
LAST-MODIFIED:20240926T184450Z
UID:38160-1730372400-1730376000@qi.ipro.org
SUMMARY:IPRO Health Equity Event: Announcing the IPRO Health Equity Action Framework
DESCRIPTION:Thursday\, September 26\, 2024\n11:00 AM – 12:00 PM ET\nJoin IPRO for an introduction to the IPRO Health Equity Action Framework. IPRO developed this resource to: \n\nHelp organizations identify and address disparities using a systematic approach\nPromote the use of evidence-based interventions\nIllustrate how to use performance measures to track\, monitor\, and evaluate the interventions\n\nWho should attend? Individuals responsible for implementing health equity initiatives within an organization such as: \n\nChief Equity Officer\nV.P. of Diversity\, Equity and Inclusion\nDirector of Equity or Quality\nAnd their staff
URL:https://qi.ipro.org/upcoming-events/ipro-health-equity-event-announcing-the-ipro-health-equity-action-framework/
LOCATION:Online via WebEx
CATEGORIES:Free event,Health Equity
END:VEVENT
BEGIN:VEVENT
DTSTART;TZID=America/New_York:20241031T130000
DTEND;TZID=America/New_York:20241031T140000
DTSTAMP:20260419T202654
CREATED:20241004T182201Z
LAST-MODIFIED:20241004T182201Z
UID:38236-1730379600-1730383200@qi.ipro.org
SUMMARY:Emergency Preparedness Planning (EPP) Series Part Two: Practical Strategies for Managing Behavioral Health Needs of Nursing Home Residents
DESCRIPTION:Thursday\, October 31 from 1 to 2 pm ET\n \nRegistration is required for this event.\nLearning Objectives\nIn this webinar\, we will:\n1. Identify three strategies for management of behavioral health conditions\n2. Understand symptom presentation at different phases of common serious mental illnesses\n3. Describe the difference between interventions planned for lower- and higher-intensity behavioral health symptoms \nWho Should Attend\nLong-Term Care\, Hospital\, and Clinic\n• EPP Coordinators\n• Nurses\n• Quality Professionals \n\n\n\nSpeaker\nJacob Berelowitz\, LNHA\, LMSW\, CPHQ\, CCM\nProgram Director\, Center of Excellence for Behavioral Health in Nursing Facilities \nJacob serves as the Program Director of the Center of Excellence for Behavioral Health in Nursing Facilities. He has 15 years of clinical and administrative leadership experience as a nursing home administrator\, director of social work\, and social worker. \nHe has served at nursing homes ranging in size from 50 to 700+ beds and has designed and implemented specialized nursing home units and programs to serve the behavioral health needs of residents. \nDually licensed as a nursing home administrator and master social worker\, he holds a master’s degree in social work from New York University and is also a certified professional in healthcare quality and a certified case manager.
URL:https://qi.ipro.org/upcoming-events/emergency-preparedness-planning-epp-series-part-two-practical-strategies-for-managing-behavioral-health-needs-of-nursing-home-residents/
LOCATION:Online via WebEx
CATEGORIES:Emergency Preparedness,Free event
END:VEVENT
BEGIN:VEVENT
DTSTART;TZID=America/New_York:20241031T130000
DTEND;TZID=America/New_York:20241031T140000
DTSTAMP:20260419T202654
CREATED:20241008T185933Z
LAST-MODIFIED:20241008T190158Z
UID:38258-1730379600-1730383200@qi.ipro.org
SUMMARY:A Call to Action in Long Term Care & Adult Care Facilities: Caring for People with Substance Use Disorder: Laying the Groundwork\, Addiction 101\, Older Adults\, Nursing
DESCRIPTION:Thursday\, October 31 from 1 to 2 pm ET\nTopic: Laying the Groundwork\, Addiction 101\, Older Adults\, Nursing \nThis series is being offered to educate\, support\, and encourage nursing homes and adult care facilities to care for people with substance use disorders (SUDs)\, to treat co-occurring SUDs\, and to treat medical disorders affecting people with SUDs. \nThe series will provide an educational framework for the multi-workgroup toolkit\, the Substance Use Disorder Treatment and Access Policy and Procedure Toolkit for Nursing Homes and Adult Care Facilities\, developed for facilities with modifiable templates of policies and procedures for working with people with SUDs. \nThis integrated educational series ultimately will assist staff in being prepared to deliver quality care to residents with substance use disorders. NAB accreditation available for administrators. ACPE accreditation available for pharmacists and pharmacy technicians. \nThere is no cost to participate in this event! \nFeatured speakers in the series include: \n\nPamela Mund\, MD\, Chief of Addiction Medicine State Opioid Treatment Authority\, NYS Office of Addiction Services and Supports\nMichele Falkowski\, RN\, BSN\, CARN\, Director of Nursing\, NYS Office of Addiction Services and Supports\nAndrew G. Johnson\, HPA-2\, BS\, EMPP\, Manager\, NYS Department of Health Bureau of Narcotic Enforcement\nMichael Balboni\, Executive Director\, & Mary Gracey-White\, RN BSN QCP\, Director of Regulatory Compliance\, Greater New York Health Care Facilities Association\nAnne Myrka\, RPh\, MAT\, CPHQ\, Senior Director\, IPRO QIN-QIO\nRobert C. Accetta\, RPh\, BCGP\, FASCP\, Senior Pharmacist\, IPRO QIN-QIO\nLauren Kelly\, MD\, MPH\, MS\, Assistant Professor of Geriatrics and Palliative Medicine\, Icahn School of Medicine at Mount Sinai\, New York\, New York\nDr. Jennifer Marie Moore DNP MSN BS RN CNEcl NY-SAFE EMT\, Quality Assurance and Performance Improvement Coordinator\, Center for Residential Surveillance\, Office of Aging & Long-Term Care\, NYSDOH\nElizabeth Schady\, Program Director\, Office of Drug User Health\, AIDS Institute\, NYSDOH\n\nNAB CEU Applied for Administrators *\n*GNYHCFA is a Certified Sponsor of professional continuing education with the National Association of Boards of Examiners of Long-Term Care Administrators (NAB). This educational offering has been submitted to the National Continuing Education Review Service (NCERS) of the National Association of Long-Term Care Administrator Boards (NAB) and approval is pending.
URL:https://qi.ipro.org/upcoming-events/a-call-to-action-in-long-term-care-adult-care-facilities-caring-for-people-with-substance-use-disorder-laying-the-groundwork-addiction-101-older-adults-nursing/
LOCATION:Online via Zoom
CATEGORIES:Free event,Nursing Home
END:VEVENT
END:VCALENDAR