BEGIN:VCALENDAR
VERSION:2.0
PRODID:-//CMS QIN-QIO - ECPv6.15.11//NONSGML v1.0//EN
CALSCALE:GREGORIAN
METHOD:PUBLISH
X-WR-CALNAME:CMS QIN-QIO
X-ORIGINAL-URL:https://qi.ipro.org
X-WR-CALDESC:Events for CMS QIN-QIO
REFRESH-INTERVAL;VALUE=DURATION:PT1H
X-Robots-Tag:noindex
X-PUBLISHED-TTL:PT1H
BEGIN:VTIMEZONE
TZID:America/New_York
BEGIN:DAYLIGHT
TZOFFSETFROM:-0500
TZOFFSETTO:-0400
TZNAME:EDT
DTSTART:20210314T070000
END:DAYLIGHT
BEGIN:STANDARD
TZOFFSETFROM:-0400
TZOFFSETTO:-0500
TZNAME:EST
DTSTART:20211107T060000
END:STANDARD
BEGIN:DAYLIGHT
TZOFFSETFROM:-0500
TZOFFSETTO:-0400
TZNAME:EDT
DTSTART:20220313T070000
END:DAYLIGHT
BEGIN:STANDARD
TZOFFSETFROM:-0400
TZOFFSETTO:-0500
TZNAME:EST
DTSTART:20221106T060000
END:STANDARD
BEGIN:DAYLIGHT
TZOFFSETFROM:-0500
TZOFFSETTO:-0400
TZNAME:EDT
DTSTART:20230312T070000
END:DAYLIGHT
BEGIN:STANDARD
TZOFFSETFROM:-0400
TZOFFSETTO:-0500
TZNAME:EST
DTSTART:20231105T060000
END:STANDARD
END:VTIMEZONE
BEGIN:VEVENT
DTSTART;TZID=America/New_York:20220203T140000
DTEND;TZID=America/New_York:20220203T150000
DTSTAMP:20260419T124505
CREATED:20220131T175143Z
LAST-MODIFIED:20220131T175930Z
UID:33024-1643896800-1643900400@qi.ipro.org
SUMMARY:CMS Rural Health Open Door Forum\, Feb 3\, 2022\, 2-3 pm ET
DESCRIPTION:CMS Rural Health Open Door Forum is scheduled for: \nDate: Thursday\, February 3\, 2022\nStart Time: 2:00pm-3:00pm Eastern Time (ET); \nPlease dial in at least 15 minutes prior to call start time. \nConference Leaders: Ing-Jye Cheng\, John Hammarlund and Jill Darling.\n**This Agenda is Subject to Change**\n1. Opening Remarks\n1. Co-Chair- Ing-Jye Cheng\, (Center for Medicare)\n2. Co-Chair – John Hammarlund\, Deputy Director Local Engagement and Administration\, OPOLE\n3. Moderator – Jill Darling\, Office of Communications \n1. Announcements & Updates\n• FY 2022 IPPS final rule with comment period – Graduate Medical Education provisions of the Consolidated Appropriations Act\, 2021\n• Update on CMS payment policies for administering COVID-19 monoclonal antibodies\n1. Open Q&A \n**DATE IS SUBJECT TO CHANGE** \nNext ODF: TBD \nEmail: RuralHealthODF@cms.hhs.gov \nThis Open Door Forum is open to everyone\, but if you are a member of the Press\, you may listen in but please refrain from asking questions during the Q & A portion of the call. If you have inquiries\, please contact CMS at Press@cms.hhs.gov. \nOpen Door Forum Participation Instructions:\nThis call will be Conference Call Only. \n1. To participate by phone: Dial: 1-888-455-1397 & Reference Conference Passcode: 5109694 \nPersons participating by phone are not required to RSVP. TTY Communications Relay Services are available for the Hearing Impaired. For TTY services dial 7-1-1 or 1-800-855-2880. A Relay Communications Assistant will help. \nInstant Replay: 1-800-835-5808; Conference Passcode: No Passcode Needed \nInstant Replay is an audio recording of this call that can be accessed by dialing 1-800-835-5808. Instant Replay begins 1 hour after the call has ended. The recording expires February 5\, 2022\, 11:59 PM ET. \nFor ODF schedule updates and E-Mailing List registration\, visit our website at http://www.cms.gov/OpenDoorForums/. \nWere you unable to attend the recent Rural Health ODF call? We encourage you to visit our CMS Podcasts and Transcript webpage where you can listen and view the most recent Rural Health ODF call. \nCMS provides free auxiliary aids and services including information in accessible formats. Click here for more information. This will point partners to our CMS.gov version of the “Accessibility & Nondiscrimination notice” page.
URL:https://qi.ipro.org/upcoming-events/cms-rural-health-open-door-forum-feb-3-2022-2-3-pm-et/
END:VEVENT
END:VCALENDAR