BEGIN:VCALENDAR
VERSION:2.0
PRODID:-//CMS QIN-QIO - ECPv6.15.11//NONSGML v1.0//EN
CALSCALE:GREGORIAN
METHOD:PUBLISH
X-ORIGINAL-URL:https://qi.ipro.org
X-WR-CALDESC:Events for CMS QIN-QIO
REFRESH-INTERVAL;VALUE=DURATION:PT1H
X-Robots-Tag:noindex
X-PUBLISHED-TTL:PT1H
BEGIN:VTIMEZONE
TZID:America/New_York
BEGIN:DAYLIGHT
TZOFFSETFROM:-0500
TZOFFSETTO:-0400
TZNAME:EDT
DTSTART:20210314T070000
END:DAYLIGHT
BEGIN:STANDARD
TZOFFSETFROM:-0400
TZOFFSETTO:-0500
TZNAME:EST
DTSTART:20211107T060000
END:STANDARD
BEGIN:DAYLIGHT
TZOFFSETFROM:-0500
TZOFFSETTO:-0400
TZNAME:EDT
DTSTART:20220313T070000
END:DAYLIGHT
BEGIN:STANDARD
TZOFFSETFROM:-0400
TZOFFSETTO:-0500
TZNAME:EST
DTSTART:20221106T060000
END:STANDARD
BEGIN:DAYLIGHT
TZOFFSETFROM:-0500
TZOFFSETTO:-0400
TZNAME:EDT
DTSTART:20230312T070000
END:DAYLIGHT
BEGIN:STANDARD
TZOFFSETFROM:-0400
TZOFFSETTO:-0500
TZNAME:EST
DTSTART:20231105T060000
END:STANDARD
END:VTIMEZONE
BEGIN:VEVENT
DTSTART;TZID=America/New_York:20220202T120000
DTEND;TZID=America/New_York:20220202T123000
DTSTAMP:20260419T180834
CREATED:20220110T191721Z
LAST-MODIFIED:20220127T172457Z
UID:32918-1643803200-1643805000@qi.ipro.org
SUMMARY:Small Talks: Adverse Drug Events (ADEs)
DESCRIPTION:Join our team for a valuable exploration of adverse drug events. Learn how to define them and recognize their common causes. \nWe’ll also cover how to use an ADE Trigger Tool\, and how to review ADE statistics including what to look for and what to do with your findings.
URL:https://qi.ipro.org/upcoming-events/small-talks-adverse-drug-events-ades-2/
LOCATION:Online via Zoom
END:VEVENT
BEGIN:VEVENT
DTSTART;TZID=America/New_York:20220202T150000
DTEND;TZID=America/New_York:20220202T160000
DTSTAMP:20260419T180834
CREATED:20220128T205207Z
LAST-MODIFIED:20220202T181205Z
UID:33011-1643814000-1643817600@qi.ipro.org
SUMMARY:CMS National Nursing Home Stakeholder Call\, February 2\, 2022\, 3 pm ET
DESCRIPTION:Join the Centers for Medicare & Medicaid Services (CMS) and the Centers for Disease Control and Prevention (CDC) for a National Stakeholder Call providing updates on COVID-19\, revisions to nursing home guidance\, and best practices. Additionally\, subject matter experts from CDC and CMS will address frequently asked questions. \nPanelists: \n\nDr. Lee Fleisher\, CMS Chief Medical Officer and Director\, Center for Clinical Standards and Quality (CMS)\nJean Moody Williams\, Deputy Director\, Center for Clinical Standards and Quality (CMS)\nDr. Kara Jacobs-Slifka\, Long Term Care Lead\, Prevention and Response Branch (CDC)\nEvan Shulman\, Director\, Division of Nursing Homes (CMS)\n\nWho should attend: Long-term care providers\, facility staff\, and resident advocates.
URL:https://qi.ipro.org/upcoming-events/cms-national-nursing-home-stakeholder-call-february-2-2022-3-pm-et/
LOCATION:Online via Zoom
END:VEVENT
END:VCALENDAR